BEGIN:VCALENDAR
VERSION:2.0
PRODID:-//Greene County Parks &amp; Trails - ECPv6.15.18//NONSGML v1.0//EN
CALSCALE:GREGORIAN
METHOD:PUBLISH
X-WR-CALNAME:Greene County Parks &amp; Trails
X-ORIGINAL-URL:https://www.gcparkstrails.com
X-WR-CALDESC:Events for Greene County Parks &amp; Trails
REFRESH-INTERVAL;VALUE=DURATION:PT1H
X-Robots-Tag:noindex
X-PUBLISHED-TTL:PT1H
BEGIN:VTIMEZONE
TZID:America/New_York
BEGIN:DAYLIGHT
TZOFFSETFROM:-0500
TZOFFSETTO:-0400
TZNAME:EDT
DTSTART:20240310T070000
END:DAYLIGHT
BEGIN:STANDARD
TZOFFSETFROM:-0400
TZOFFSETTO:-0500
TZNAME:EST
DTSTART:20241103T060000
END:STANDARD
BEGIN:DAYLIGHT
TZOFFSETFROM:-0500
TZOFFSETTO:-0400
TZNAME:EDT
DTSTART:20250309T070000
END:DAYLIGHT
BEGIN:STANDARD
TZOFFSETFROM:-0400
TZOFFSETTO:-0500
TZNAME:EST
DTSTART:20251102T060000
END:STANDARD
BEGIN:DAYLIGHT
TZOFFSETFROM:-0500
TZOFFSETTO:-0400
TZNAME:EDT
DTSTART:20260308T070000
END:DAYLIGHT
BEGIN:STANDARD
TZOFFSETFROM:-0400
TZOFFSETTO:-0500
TZNAME:EST
DTSTART:20261101T060000
END:STANDARD
END:VTIMEZONE
BEGIN:VEVENT
DTSTART;TZID=America/New_York:20250618T000000
DTEND;TZID=America/New_York:20250618T143000
DTSTAMP:20260422T091755
CREATED:20250109T201027Z
LAST-MODIFIED:20250109T201149Z
UID:10006070-1750204800-1750257000@www.gcparkstrails.com
SUMMARY:14-17 ~ Teen Adventure Camp - Registration Required
DESCRIPTION:Were you super bummed you aged out of our popular Roughin’ It Camp? Look no further than this 3 day mini camp! \nNo previous camp experience required. You will build a fire\, make a shelter\, learn orienteering\, and go on a canoe and overnight camping adventure! Get ready for some serious outdoor adventures! \nTuesday dinner\, snack and Wednesday breakfast will be provided.
URL:https://www.gcparkstrails.com/event/14-17-teen-adventure-camp-registration-required/2025-06-18/
LOCATION:Narrows Reserve\, 2575 Indian Ripple Road\, Xenia\, OH\, 45385\, United States
END:VEVENT
BEGIN:VEVENT
DTSTART;TZID=America/New_York:20250618T113000
DTEND;TZID=America/New_York:20250618T130000
DTSTAMP:20260422T091755
CREATED:20250110T123731Z
LAST-MODIFIED:20250110T133239Z
UID:10006075-1750246200-1750251600@www.gcparkstrails.com
SUMMARY:Picnic in the Park - Registration Required
DESCRIPTION:Come join us along with other senior members of our community at the Fairgrounds Recreation Center Park (Large Shelter) for a delicious PICNIC IN THE PARK! \nThere will be lots of good food fit for a picnic including hamburgers\, hotdogs\, chips\, veggies\, & refreshing drinks.  We will spend time together in the park sharing fun memories of our past and present\, socializing and meeting new friends all while enjoying your scenic park atmosphere.  Eating outside in nature and sharing time together are very positive and beneficial ways to nourish our heart and soul! \nPlease plan to eat\, drink\, and make new friends as we share time together at the Fairgrounds Recreation Center Park located at:  210 Fairground Road\, Xenia\, Ohio – next to the Greene County Fairgrounds!  See you there. \nThis is a free program for those Ages 55 & Up.  Picnic tables are available.  You are welcome to bring your own chair or cushion for your comfort. \nRegistration is required due to supplies needed for this event.
URL:https://www.gcparkstrails.com/event/picnic-in-the-park-no-registration/
LOCATION:Fairgrounds Recreation Center\, 210 Fairground Road\, Xenia\, OH\, 45385\, United States
END:VEVENT
END:VCALENDAR