BEGIN:VCALENDAR
VERSION:2.0
PRODID:-//Greene County Parks &amp; Trails - ECPv6.15.18//NONSGML v1.0//EN
CALSCALE:GREGORIAN
METHOD:PUBLISH
X-WR-CALNAME:Greene County Parks &amp; Trails
X-ORIGINAL-URL:https://www.gcparkstrails.com
X-WR-CALDESC:Events for Greene County Parks &amp; Trails
REFRESH-INTERVAL;VALUE=DURATION:PT1H
X-Robots-Tag:noindex
X-PUBLISHED-TTL:PT1H
BEGIN:VTIMEZONE
TZID:America/New_York
BEGIN:DAYLIGHT
TZOFFSETFROM:-0500
TZOFFSETTO:-0400
TZNAME:EDT
DTSTART:20240310T070000
END:DAYLIGHT
BEGIN:STANDARD
TZOFFSETFROM:-0400
TZOFFSETTO:-0500
TZNAME:EST
DTSTART:20241103T060000
END:STANDARD
BEGIN:DAYLIGHT
TZOFFSETFROM:-0500
TZOFFSETTO:-0400
TZNAME:EDT
DTSTART:20250309T070000
END:DAYLIGHT
BEGIN:STANDARD
TZOFFSETFROM:-0400
TZOFFSETTO:-0500
TZNAME:EST
DTSTART:20251102T060000
END:STANDARD
BEGIN:DAYLIGHT
TZOFFSETFROM:-0500
TZOFFSETTO:-0400
TZNAME:EDT
DTSTART:20260308T070000
END:DAYLIGHT
BEGIN:STANDARD
TZOFFSETFROM:-0400
TZOFFSETTO:-0500
TZNAME:EST
DTSTART:20261101T060000
END:STANDARD
END:VTIMEZONE
BEGIN:VEVENT
DTSTART;TZID=America/New_York:20250617T090000
DTEND;TZID=America/New_York:20250617T235900
DTSTAMP:20260422T091802
CREATED:20250109T201027Z
LAST-MODIFIED:20250109T201149Z
UID:10006069-1750150800-1750204740@www.gcparkstrails.com
SUMMARY:14-17 ~ Teen Adventure Camp - Registration Required
DESCRIPTION:Were you super bummed you aged out of our popular Roughin’ It Camp? Look no further than this 3 day mini camp! \nNo previous camp experience required. You will build a fire\, make a shelter\, learn orienteering\, and go on a canoe and overnight camping adventure! Get ready for some serious outdoor adventures! \nTuesday dinner\, snack and Wednesday breakfast will be provided.
URL:https://www.gcparkstrails.com/event/14-17-teen-adventure-camp-registration-required/2025-06-17/
LOCATION:Narrows Reserve\, 2575 Indian Ripple Road\, Xenia\, OH\, 45385\, United States
END:VEVENT
BEGIN:VEVENT
DTSTART;TZID=America/New_York:20250617T180000
DTEND;TZID=America/New_York:20250617T200000
DTSTAMP:20260422T091802
CREATED:20250109T201619Z
LAST-MODIFIED:20250109T201619Z
UID:10006071-1750183200-1750190400@www.gcparkstrails.com
SUMMARY:Keeping Cool at the GCP&T Ice Cream Social - Registration Required
DESCRIPTION:“Come One Come All” to the GCP&T Ice Cream Social where Seniors (Ages 55 & Up) will join together with the WiggleHoppers (Ages 2-9) to chill out and enjoy some delicious ice cream on a summer afternoon at the Fairgrounds Recreation Center Park (Large Shelter area)! \nThis is an inter-generational event in the park\, where the Seniors and WiggleHoppers will have the opportunity to meet and greet each other to share time together in the park at this program!  You may even tell some stories about your favorite childhood memories attending ice cream socials or just enjoying the fabulous taste of your favorite ice cream treat!  Please join us at the park to socialize\, share memories\, and eat lots of delicious\, cold ice cream! \nThis is a FREE program.  Registration is required due to ice cream/supplies provided for the program. \nPicnic tables are available.  Please bring along a comfortable chair or cushion for your comfort if you prefer. \nThe Fairgrounds Recreation Center Park is located at:  210 Fairground Road\, Xenia\, Ohio\, next to the Greene County Fairgrounds.
URL:https://www.gcparkstrails.com/event/keeping-cool-at-the-gcpt-ice-cream-social-registration-required/
LOCATION:Fairgrounds Recreation Center\, 210 Fairground Road\, Xenia\, OH\, 45385\, United States
END:VEVENT
BEGIN:VEVENT
DTSTART;TZID=America/New_York:20250617T180000
DTEND;TZID=America/New_York:20250617T200000
DTSTAMP:20260422T091802
CREATED:20250110T121256Z
LAST-MODIFIED:20250110T122945Z
UID:10006072-1750183200-1750190400@www.gcparkstrails.com
SUMMARY:Wigglehoppers - Ice Cream Social - Registration Required
DESCRIPTION:Sometimes it is just better to have fun together! \nBecause of this\, we will sometimes join our Wiggle Worms and Greene Grasshoppers into Wigglehoppers for double the fun… \nSo kiddos ages 2-9 are encouraged to join us for some holiday fun…free as always! \nThe Wigglehoppers program this year is for June\, November and December only. \n  \n\n\n\nIce Cream Social\nSummer is finally here and we are more than ready to have some fun in the sun! And what better way to welcome this beautiful season than to have an Ice Cream Social!! This Ice Cream Social will be inter-generational as we join our Seniors to enjoy some yummy ice cream\, play some games\, chat with our seniors and maybe hear some awesome stories! Beautiful memories can come from our younger generation interacting and hanging out with the older generation\, so come out and make some awesome summer memories!
URL:https://www.gcparkstrails.com/event/wigglehoppers-ice-cream-social-registration-required/
LOCATION:Fairgrounds Recreation Center\, 210 Fairground Road\, Xenia\, OH\, 45385\, United States
END:VEVENT
END:VCALENDAR