BEGIN:VCALENDAR
VERSION:2.0
PRODID:-//Greene County Parks &amp; Trails - ECPv6.15.18//NONSGML v1.0//EN
CALSCALE:GREGORIAN
METHOD:PUBLISH
X-ORIGINAL-URL:https://www.gcparkstrails.com
X-WR-CALDESC:Events for Greene County Parks &amp; Trails
REFRESH-INTERVAL;VALUE=DURATION:PT1H
X-Robots-Tag:noindex
X-PUBLISHED-TTL:PT1H
BEGIN:VTIMEZONE
TZID:America/New_York
BEGIN:DAYLIGHT
TZOFFSETFROM:-0500
TZOFFSETTO:-0400
TZNAME:EDT
DTSTART:20240310T070000
END:DAYLIGHT
BEGIN:STANDARD
TZOFFSETFROM:-0400
TZOFFSETTO:-0500
TZNAME:EST
DTSTART:20241103T060000
END:STANDARD
BEGIN:DAYLIGHT
TZOFFSETFROM:-0500
TZOFFSETTO:-0400
TZNAME:EDT
DTSTART:20250309T070000
END:DAYLIGHT
BEGIN:STANDARD
TZOFFSETFROM:-0400
TZOFFSETTO:-0500
TZNAME:EST
DTSTART:20251102T060000
END:STANDARD
BEGIN:DAYLIGHT
TZOFFSETFROM:-0500
TZOFFSETTO:-0400
TZNAME:EDT
DTSTART:20260308T070000
END:DAYLIGHT
BEGIN:STANDARD
TZOFFSETFROM:-0400
TZOFFSETTO:-0500
TZNAME:EST
DTSTART:20261101T060000
END:STANDARD
END:VTIMEZONE
BEGIN:VEVENT
DTSTART;TZID=America/New_York:20250614T090000
DTEND;TZID=America/New_York:20250614T110000
DTSTAMP:20260422T091958
CREATED:20250109T135311Z
LAST-MODIFIED:20250109T135311Z
UID:10005600-1749891600-1749898800@www.gcparkstrails.com
SUMMARY:Morning Milers - No Registration
DESCRIPTION:Join the GCP&T Trail Sentinels for an early morning ride along the region’s bike trails. GCP&T Trail Sentinels are an elite volunteer group who patrol the trails and coordinate several cycling events.\nThese rides are not for the beginner skill level and may include a short\, off-trail portion with an average of 25-35 miles at 15-17 MPH. \nRides are FREE and meet at 8:30 AM with rides starting at 9 AM\, finishing around 11 AM. \nRides will be cancelled in the event of a inclement weather. \nAll night riders must:\nBe 18 and older\nWear a helmet\nHave bike repair items \nStarting Point Addresses:\nBeavercreek Community Park\n801 Factory Rd.\, Beavercreek\, OH 45434\nXenia Station\n150 S. Miami Ave.\, Xenia\, OH 45385
URL:https://www.gcparkstrails.com/event/morning-milers-no-registration-2/2025-06-14/
LOCATION:Xenia Station\, 150 Miami Avenue\, Xenia\, OH\, 45385\, United States
CATEGORIES:Adults,Cycling
END:VEVENT
BEGIN:VEVENT
DTSTART;TZID=America/New_York:20250614T100000
DTEND;TZID=America/New_York:20250614T110000
DTSTAMP:20260422T091958
CREATED:20250109T195046Z
LAST-MODIFIED:20250109T195046Z
UID:10006064-1749895200-1749898800@www.gcparkstrails.com
SUMMARY:Disc Golf 101 with Dad - Registration Required
DESCRIPTION:Hey dads\, have you ever wanted to learn how to play disc golf but don’t know where to start? \nDo you love spending time with your kids learning new things? Look no further! \nWe will be out at Caesar Ford with all the disc golf info! You will learn how to throw\, the ins and outs of playing\, and you’ll even get your very own Disc *while supplies last*! Even if you already are an avid player we would love to see you! Bring those kids out for some Father’s Day fun on our disc golf course! \nThere is a limit of one custom disc per registered father.  Please register the dads\, or father figures\, only.  Kids are permitted to attend.
URL:https://www.gcparkstrails.com/event/disc-golf-101-with-dad-registration-required/2025-06-14/1/
LOCATION:Caesar Ford Park\, 520 South Stringtown Road\, Xenia\, OH\, 45385\, United States
CATEGORIES:Family
END:VEVENT
BEGIN:VEVENT
DTSTART;TZID=America/New_York:20250614T100000
DTEND;TZID=America/New_York:20250614T120000
DTSTAMP:20260422T091958
CREATED:20250109T194706Z
LAST-MODIFIED:20250109T194706Z
UID:10006063-1749895200-1749902400@www.gcparkstrails.com
SUMMARY:Anything on Wheels - No Registration
DESCRIPTION:Bikes\, scooters\, pedal cars and more! If it has wheels\, and can be ridden by a child\, then bring it out to the Fairgrounds Recreation Center for some fun! \nAnything on Wheels is designed to get kids out and about\, playing with others\, while having some fun. \nChildren must bring their riding toys; none will be available for loan. Please no motorized toys\, push or peddles only. \nParents are required to remain with their children during this program. \n**New in 2025\, we will be partnering with Dayton Children’s Hospital to provide bicycle helmets\, while supplies last.  More details to follow.**
URL:https://www.gcparkstrails.com/event/anything-on-wheels-no-registration/
LOCATION:Fairgrounds Recreation Center\, 210 Fairground Road\, Xenia\, OH\, 45385\, United States
CATEGORIES:Kids
END:VEVENT
BEGIN:VEVENT
DTSTART;TZID=America/New_York:20250614T110000
DTEND;TZID=America/New_York:20250614T120000
DTSTAMP:20260422T091958
CREATED:20250109T195046Z
LAST-MODIFIED:20250109T195046Z
UID:10006065-1749898800-1749902400@www.gcparkstrails.com
SUMMARY:Disc Golf 101 with Dad - Registration Required
DESCRIPTION:Hey dads\, have you ever wanted to learn how to play disc golf but don’t know where to start? \nDo you love spending time with your kids learning new things? Look no further! \nWe will be out at Caesar Ford with all the disc golf info! You will learn how to throw\, the ins and outs of playing\, and you’ll even get your very own Disc *while supplies last*! Even if you already are an avid player we would love to see you! Bring those kids out for some Father’s Day fun on our disc golf course! \nThere is a limit of one custom disc per registered father.  Please register the dads\, or father figures\, only.  Kids are permitted to attend.
URL:https://www.gcparkstrails.com/event/disc-golf-101-with-dad-registration-required/2025-06-14/2/
LOCATION:Caesar Ford Park\, 520 South Stringtown Road\, Xenia\, OH\, 45385\, United States
CATEGORIES:Family
END:VEVENT
BEGIN:VEVENT
DTSTART;TZID=America/New_York:20250614T160000
DTEND;TZID=America/New_York:20250614T180000
DTSTAMP:20260422T091958
CREATED:20250109T200434Z
LAST-MODIFIED:20250527T154451Z
UID:10006066-1749916800-1749924000@www.gcparkstrails.com
SUMMARY:Veterans Family Picnic and Flag Retirement Ceremony
DESCRIPTION:Have you served in the military or have a family member that has served? If so\, we want to invite you to the Veterans Picnic followed by the annual flag retirement ceremony! \nVeterans\, service members\, and their families are invited to join the Greene County Veterans Services and Greene County Parks & Trails\, for a celebration of Veterans. \nNo registration required. \nDOWNLOAD EVENT FLYER (PDF)
URL:https://www.gcparkstrails.com/event/veterans-family-picnic/
LOCATION:Greene County Fairgrounds\, 120 Fairground Rd.\, Xenia\, OH\, 45385\, United States
CATEGORIES:Family
ATTACH;FMTTYPE=image/png:https://www.gcparkstrails.com/wp-content/uploads/2025/05/Veterans-Picnic.png
END:VEVENT
END:VCALENDAR