BEGIN:VCALENDAR
VERSION:2.0
PRODID:-//Greene County Parks &amp; Trails - ECPv6.15.18//NONSGML v1.0//EN
CALSCALE:GREGORIAN
METHOD:PUBLISH
X-WR-CALNAME:Greene County Parks &amp; Trails
X-ORIGINAL-URL:https://www.gcparkstrails.com
X-WR-CALDESC:Events for Greene County Parks &amp; Trails
REFRESH-INTERVAL;VALUE=DURATION:PT1H
X-Robots-Tag:noindex
X-PUBLISHED-TTL:PT1H
BEGIN:VTIMEZONE
TZID:America/New_York
BEGIN:DAYLIGHT
TZOFFSETFROM:-0500
TZOFFSETTO:-0400
TZNAME:EDT
DTSTART:20240310T070000
END:DAYLIGHT
BEGIN:STANDARD
TZOFFSETFROM:-0400
TZOFFSETTO:-0500
TZNAME:EST
DTSTART:20241103T060000
END:STANDARD
BEGIN:DAYLIGHT
TZOFFSETFROM:-0500
TZOFFSETTO:-0400
TZNAME:EDT
DTSTART:20250309T070000
END:DAYLIGHT
BEGIN:STANDARD
TZOFFSETFROM:-0400
TZOFFSETTO:-0500
TZNAME:EST
DTSTART:20251102T060000
END:STANDARD
BEGIN:DAYLIGHT
TZOFFSETFROM:-0500
TZOFFSETTO:-0400
TZNAME:EDT
DTSTART:20260308T070000
END:DAYLIGHT
BEGIN:STANDARD
TZOFFSETFROM:-0400
TZOFFSETTO:-0500
TZNAME:EST
DTSTART:20261101T060000
END:STANDARD
END:VTIMEZONE
BEGIN:VEVENT
DTSTART;TZID=America/New_York:20250506T100000
DTEND;TZID=America/New_York:20250506T120000
DTSTAMP:20260422T074114
CREATED:20250109T144037Z
LAST-MODIFIED:20250109T144037Z
UID:10005615-1746525600-1746532800@www.gcparkstrails.com
SUMMARY:Homeschool Science Days: Reptiles - No Registration
DESCRIPTION:Bring your homeschool groups outside for hands-on science designed for all ages. Two programs are designed just for homeschoolers. They are called Homeschool Science Days and Homeschool Science Days DISCOVERY HIKES. \nHomeschool Science Days are station-based with various fun\, educational activities. These are drop in programs that begin at 10 am and go to noon. Please plan to arrive no later than 11:30 in order to have time to enjoy the activities. \nDress for the weather. This program will be entirely outdoors\, rain or shine.   There is a chance that participants may get muddy. \nAt least one adult must be present with each homeschool group. \nRegistration is no longer needed for the homeschool educational series. \n\n\n\nReptiles\nSlither over to Russ Nature Reserve for stations featuring snakes\, turtles\, lizards and other reptiles! See our Critter Cove reptiles up close. Play games\, make crafts and do other fun\, educational activities focusing on our scaly friends! Arrive no later than 11:30.
URL:https://www.gcparkstrails.com/event/homeschool-science-days-reptiles-no-registration/
LOCATION:Russ Nature Reserve\, 2380 Kemp Road\, Beavercreek\, OH\, 45431\, United States
CATEGORIES:Homeschool Science Days
END:VEVENT
BEGIN:VEVENT
DTSTART;TZID=America/New_York:20250506T173000
DTEND;TZID=America/New_York:20250506T190000
DTSTAMP:20260422T074114
CREATED:20250109T172101Z
LAST-MODIFIED:20250109T172101Z
UID:10005658-1746552600-1746558000@www.gcparkstrails.com
SUMMARY:Mother's Day Suprise - Registration Required
DESCRIPTION:Join our staff as we celebrate the mother\, or mother figure\, in your life. \nWe will be making custom\, birthstone necklaces at this fun event.  An adult is required to assist the child/children with the project. \nThere is a one necklace per family limit so please do not register all of your children\, one will be acceptable.   \nThis is an in-person program only\, supplies cannot be picked up or taken for guests that do not attend. \nYou do not need to arrive right at 5:30 pm.  If you are registered\, we will have supplies for you.  Please arrive no later than 6:40 pm to allow time to complete the project prior to us closing at 7 pm. \nWe will be using super glue!
URL:https://www.gcparkstrails.com/event/mothers-day-suprise-registration-required/
LOCATION:Pierce Park\, 618 Dayton-Xenia Road\, Xenia\, OH\, 45385\, United States
CATEGORIES:Kids
END:VEVENT
END:VCALENDAR