BEGIN:VCALENDAR
VERSION:2.0
PRODID:-//Greene County Parks &amp; Trails - ECPv6.15.18//NONSGML v1.0//EN
CALSCALE:GREGORIAN
METHOD:PUBLISH
X-WR-CALNAME:Greene County Parks &amp; Trails
X-ORIGINAL-URL:https://www.gcparkstrails.com
X-WR-CALDESC:Events for Greene County Parks &amp; Trails
REFRESH-INTERVAL;VALUE=DURATION:PT1H
X-Robots-Tag:noindex
X-PUBLISHED-TTL:PT1H
BEGIN:VTIMEZONE
TZID:America/New_York
BEGIN:DAYLIGHT
TZOFFSETFROM:-0500
TZOFFSETTO:-0400
TZNAME:EDT
DTSTART:20240310T070000
END:DAYLIGHT
BEGIN:STANDARD
TZOFFSETFROM:-0400
TZOFFSETTO:-0500
TZNAME:EST
DTSTART:20241103T060000
END:STANDARD
BEGIN:DAYLIGHT
TZOFFSETFROM:-0500
TZOFFSETTO:-0400
TZNAME:EDT
DTSTART:20250309T070000
END:DAYLIGHT
BEGIN:STANDARD
TZOFFSETFROM:-0400
TZOFFSETTO:-0500
TZNAME:EST
DTSTART:20251102T060000
END:STANDARD
BEGIN:DAYLIGHT
TZOFFSETFROM:-0500
TZOFFSETTO:-0400
TZNAME:EDT
DTSTART:20260308T070000
END:DAYLIGHT
BEGIN:STANDARD
TZOFFSETFROM:-0400
TZOFFSETTO:-0500
TZNAME:EST
DTSTART:20261101T060000
END:STANDARD
END:VTIMEZONE
BEGIN:VEVENT
DTSTART;TZID=America/New_York:20250503T090000
DTEND;TZID=America/New_York:20250503T110000
DTSTAMP:20260422T074209
CREATED:20250109T140247Z
LAST-MODIFIED:20250109T140247Z
UID:10005606-1746262800-1746270000@www.gcparkstrails.com
SUMMARY:Morning Milers  - No Registration
DESCRIPTION:Join the GCP&T Trail Sentinels for an early morning ride along the region’s bike trails. GCP&T Trail Sentinels are an elite volunteer group who patrol the trails and coordinate several cycling events.\nThese rides are not for the beginner skill level and may include a short\, off-trail portion with an average of 25-35 miles at 15-17 MPH. \nRides are FREE and meet at 8:30 AM with rides starting at 9 AM\, finishing around 11 AM. \nRides will be cancelled in the event of a inclement weather. \nAll night riders must:\nBe 18 and older\nWear a helmet\nHave bike repair items \nStarting Point Addresses:\nBeavercreek Community Park\n801 Factory Rd.\, Beavercreek\, OH 45434\nXenia Station\n150 S. Miami Ave.\, Xenia\, OH 45385
URL:https://www.gcparkstrails.com/event/morning-milers-no-registration-3/2025-05-03/
LOCATION:Beavercreek Community Park\, 801 Factory Rd\, Beavercreek\, OH\, 45434\, United States
CATEGORIES:Adults,Cycling
END:VEVENT
BEGIN:VEVENT
DTSTART;TZID=America/New_York:20250503T100000
DTEND;TZID=America/New_York:20250503T120000
DTSTAMP:20260422T074209
CREATED:20250108T165156Z
LAST-MODIFIED:20250108T165156Z
UID:10005573-1746266400-1746273600@www.gcparkstrails.com
SUMMARY:Urban Homesteading Series - Registration Required
DESCRIPTION:This series will take you on an urban farming adventure. Learn the basics of using the space you have to grow produce and more. This series is great for those who live in urban areas and rural alike and want to learn how to start their own homestead. You don’t need 50 acres to grow your own resources! \nFebruary Class \n\nUrban Homesteading 101\n\nPrices in the grocery are not going down\, come learn about urban homesteading\, why it is so important to communities\, and how to get started planning your urban homestead.\n\n\n\nMarch Class \n\nWinter Seed Starting\n\nLearn How to use recycled milk jugs to create tiny greenhouses for your plants!\n\n\n\nApril Class \n\nAbundance in Small Spaces\n\nContainers and cages OH MY! Get the basics of starting a container garden. Meet some quail and learn how these small birds can fit into your urban homestead.\n\n\n\nMay Class \n\nPreserving and Canning\n\nWe will look at ways to keep what we grow preserved.\n\n\n\nGuests that attend all sessions will receive a Homesteading gift from our department. \n 
URL:https://www.gcparkstrails.com/event/urban-homesteading-series-registration-required/2025-05-03/
LOCATION:Narrows Reserve\, 2575 Indian Ripple Road\, Xenia\, OH\, 45385\, United States
CATEGORIES:Adults,Gardening
END:VEVENT
BEGIN:VEVENT
DTSTART;TZID=America/New_York:20250503T130000
DTEND;TZID=America/New_York:20250503T150000
DTSTAMP:20260422T074209
CREATED:20250109T171917Z
LAST-MODIFIED:20250109T171917Z
UID:10005657-1746277200-1746284400@www.gcparkstrails.com
SUMMARY:Nature's Essence - Registration Required
DESCRIPTION:Have you ever taken a stroll in a beautiful park and wished you could capture the amazing scents of nature surrounding you? Well\, you can do just that at our Nature’s Essence program. \nMeet us at Indian Mound Reserve to take in the amazing aroma around you and create a lasting memory. We will provide everything you need to create a candle unique to your experience. \nWhile waiting for your candle to set\, you can enjoy a nice stroll through the beautiful Indian Mound Reserve.
URL:https://www.gcparkstrails.com/event/natures-essence-registration-required/
LOCATION:Indian Mound Reserve\, 2750 US Rt 42 E\, Cedarville\, OH\, 45314
CATEGORIES:Adults
END:VEVENT
END:VCALENDAR