BEGIN:VCALENDAR
VERSION:2.0
PRODID:-//Greene County Parks &amp; Trails - ECPv6.15.18//NONSGML v1.0//EN
CALSCALE:GREGORIAN
METHOD:PUBLISH
X-WR-CALNAME:Greene County Parks &amp; Trails
X-ORIGINAL-URL:https://www.gcparkstrails.com
X-WR-CALDESC:Events for Greene County Parks &amp; Trails
REFRESH-INTERVAL;VALUE=DURATION:PT1H
X-Robots-Tag:noindex
X-PUBLISHED-TTL:PT1H
BEGIN:VTIMEZONE
TZID:America/New_York
BEGIN:DAYLIGHT
TZOFFSETFROM:-0500
TZOFFSETTO:-0400
TZNAME:EDT
DTSTART:20240310T070000
END:DAYLIGHT
BEGIN:STANDARD
TZOFFSETFROM:-0400
TZOFFSETTO:-0500
TZNAME:EST
DTSTART:20241103T060000
END:STANDARD
BEGIN:DAYLIGHT
TZOFFSETFROM:-0500
TZOFFSETTO:-0400
TZNAME:EDT
DTSTART:20250309T070000
END:DAYLIGHT
BEGIN:STANDARD
TZOFFSETFROM:-0400
TZOFFSETTO:-0500
TZNAME:EST
DTSTART:20251102T060000
END:STANDARD
BEGIN:DAYLIGHT
TZOFFSETFROM:-0500
TZOFFSETTO:-0400
TZNAME:EDT
DTSTART:20260308T070000
END:DAYLIGHT
BEGIN:STANDARD
TZOFFSETFROM:-0400
TZOFFSETTO:-0500
TZNAME:EST
DTSTART:20261101T060000
END:STANDARD
END:VTIMEZONE
BEGIN:VEVENT
DTSTART;TZID=America/New_York:20250315T183000
DTEND;TZID=America/New_York:20250315T203000
DTSTAMP:20260423T173305
CREATED:20250108T184715Z
LAST-MODIFIED:20250108T184715Z
UID:10005590-1742063400-1742070600@www.gcparkstrails.com
SUMMARY:Wacky Wayfarer Series - Pokemon Go Hike - No Registration
DESCRIPTION:Charge those devices and hit the trails with us! We’re going on a hike to the Gym at the Adena Mound within Indian Mound Reserve. Dress in your best Pokemon trainer apparel and lets GO! \n  \nDifficulty and accessibility will be listed under each event.\nLevel 1 – Flat dirt\, gravel\, or paved trail. Minimal elevation changes.\nLevel 2 – Rough dirt\, gravel\, or paved trail. Medium elevation changes.\nLevel 3 – Rocky and unstable trail. Multiple difficult elevation changes. \n  \n**Difficulty: Level 1 – Flat dirt\, gravel\, or paved trail. Minimal elevation changes.
URL:https://www.gcparkstrails.com/event/wacky-wayfarer-series-pokemon-go-hike-no-registration/
LOCATION:Indian Mound Reserve\, 2750 US Rt 42 E\, Cedarville\, OH\, 45314
CATEGORIES:Adults,Hiking
END:VEVENT
END:VCALENDAR