BEGIN:VCALENDAR
VERSION:2.0
PRODID:-//Greene County Parks &amp; Trails - ECPv6.15.18//NONSGML v1.0//EN
CALSCALE:GREGORIAN
METHOD:PUBLISH
X-WR-CALNAME:Greene County Parks &amp; Trails
X-ORIGINAL-URL:https://www.gcparkstrails.com
X-WR-CALDESC:Events for Greene County Parks &amp; Trails
REFRESH-INTERVAL;VALUE=DURATION:PT1H
X-Robots-Tag:noindex
X-PUBLISHED-TTL:PT1H
BEGIN:VTIMEZONE
TZID:America/New_York
BEGIN:DAYLIGHT
TZOFFSETFROM:-0500
TZOFFSETTO:-0400
TZNAME:EDT
DTSTART:20240310T070000
END:DAYLIGHT
BEGIN:STANDARD
TZOFFSETFROM:-0400
TZOFFSETTO:-0500
TZNAME:EST
DTSTART:20241103T060000
END:STANDARD
BEGIN:DAYLIGHT
TZOFFSETFROM:-0500
TZOFFSETTO:-0400
TZNAME:EDT
DTSTART:20250309T070000
END:DAYLIGHT
BEGIN:STANDARD
TZOFFSETFROM:-0400
TZOFFSETTO:-0500
TZNAME:EST
DTSTART:20251102T060000
END:STANDARD
BEGIN:DAYLIGHT
TZOFFSETFROM:-0500
TZOFFSETTO:-0400
TZNAME:EDT
DTSTART:20260308T070000
END:DAYLIGHT
BEGIN:STANDARD
TZOFFSETFROM:-0400
TZOFFSETTO:-0500
TZNAME:EST
DTSTART:20261101T060000
END:STANDARD
END:VTIMEZONE
BEGIN:VEVENT
DTSTART;TZID=America/New_York:20250206T093000
DTEND;TZID=America/New_York:20250206T103000
DTSTAMP:20260423T191535
CREATED:20250113T162131Z
LAST-MODIFIED:20250113T162131Z
UID:10006210-1738834200-1738837800@www.gcparkstrails.com
SUMMARY:Wellness Walkers
DESCRIPTION:Each week\, we will get our heart rate up and get moving while enjoying the outdoors in our beautiful parks. Walks are guided and self-paced. Greene County Parks & Trails\, Fairborn Parks and Recreation and the City of Beavercreek Parks Department have teamed up to provide walks all over Greene County. \nWalks are on Thursdays\, 9:30 – 10:30 a.m. \nAll walks are rated for difficulty with a 1 being the easiest and a 3 being the most difficult. Ratings consider terrain\, elevation changes\, etc.
URL:https://www.gcparkstrails.com/event/wellness-walkers/2025-02-06/
LOCATION:OH
END:VEVENT
BEGIN:VEVENT
DTSTART;TZID=America/New_York:20250206T183000
DTEND;TZID=America/New_York:20250206T210000
DTSTAMP:20260423T191535
CREATED:20241204T180705Z
LAST-MODIFIED:20241204T181053Z
UID:10005492-1738866600-1738875600@www.gcparkstrails.com
SUMMARY:Beginner Beekeeping Class
DESCRIPTION:Are you looking to start a new hobby or explore a potential new career? If so\, this series of 6 classes will help you determine if beekeeping is a sweet fit for you. Meet fellow enthusiasts\, ask questions and learn what it takes to become a successful beekeeper. \nThree instructors with the Greene County Beekeepers Association will cover everything you need to know in order to start your own hive. You will leave with a better understanding of honey bee biology\, behavior and hive dynamics. You will learn about equipment\, hive management and maintenance as well as the seasonal life cycle of the hive and how to work with bees for their long-term hive health. \nThis program is a partnership with the Greene County Beekeepers Association. \n***If there is bad weather\, the impacted session or sessions will be taught via Zoom*** \nREGISTER NOW
URL:https://www.gcparkstrails.com/event/beginner-beekeeping-class/2025-02-06/
LOCATION:GCPT Headquarters\, 635 Dayton-Xenia Rd.\, Xenia\, OH\, 45385
CATEGORIES:Beekeeping
ATTACH;FMTTYPE=image/jpeg:https://www.gcparkstrails.com/wp-content/uploads/2019/12/FBEvent-Beekeeping.jpg
END:VEVENT
END:VCALENDAR