BEGIN:VCALENDAR
VERSION:2.0
PRODID:-//Greene County Parks &amp; Trails - ECPv6.15.18//NONSGML v1.0//EN
CALSCALE:GREGORIAN
METHOD:PUBLISH
X-WR-CALNAME:Greene County Parks &amp; Trails
X-ORIGINAL-URL:https://www.gcparkstrails.com
X-WR-CALDESC:Events for Greene County Parks &amp; Trails
REFRESH-INTERVAL;VALUE=DURATION:PT1H
X-Robots-Tag:noindex
X-PUBLISHED-TTL:PT1H
BEGIN:VTIMEZONE
TZID:America/New_York
BEGIN:DAYLIGHT
TZOFFSETFROM:-0500
TZOFFSETTO:-0400
TZNAME:EDT
DTSTART:20230312T070000
END:DAYLIGHT
BEGIN:STANDARD
TZOFFSETFROM:-0400
TZOFFSETTO:-0500
TZNAME:EST
DTSTART:20231105T060000
END:STANDARD
BEGIN:DAYLIGHT
TZOFFSETFROM:-0500
TZOFFSETTO:-0400
TZNAME:EDT
DTSTART:20240310T070000
END:DAYLIGHT
BEGIN:STANDARD
TZOFFSETFROM:-0400
TZOFFSETTO:-0500
TZNAME:EST
DTSTART:20241103T060000
END:STANDARD
BEGIN:DAYLIGHT
TZOFFSETFROM:-0500
TZOFFSETTO:-0400
TZNAME:EDT
DTSTART:20250309T070000
END:DAYLIGHT
BEGIN:STANDARD
TZOFFSETFROM:-0400
TZOFFSETTO:-0500
TZNAME:EST
DTSTART:20251102T060000
END:STANDARD
END:VTIMEZONE
BEGIN:VEVENT
DTSTART;TZID=America/New_York:20241207T100000
DTEND;TZID=America/New_York:20241207T120000
DTSTAMP:20260423T224335
CREATED:20240206T163501Z
LAST-MODIFIED:20240814T144050Z
UID:10005487-1733565600-1733572800@www.gcparkstrails.com
SUMMARY:Santa's Workshop
DESCRIPTION:The holiday season can be a busy time\, Santa needs all the help he can get making gifts for the special people in our lives. \nChildren\, ages 2-10\, are invited to attend Santa’s Workshop and make gifts for mom\, dad\, grandma\, grandpa and more. \nAll supplies will be provided\, this is a registration event only. No walk-ins can be accepted. \nHoliday snacks available while supplies last. \nThis year we will be registering people in time slots to better serve our guests.  Please do not arrive more than 5 minutes before your scheduled time slot.
URL:https://www.gcparkstrails.com/event/santas-workshop/2024-12-07/
LOCATION:GCPT Headquarters\, 635 Dayton-Xenia Rd.\, Xenia\, OH\, 45385
CATEGORIES:Kids
END:VEVENT
BEGIN:VEVENT
DTSTART;TZID=America/New_York:20241207T130000
DTEND;TZID=America/New_York:20241207T140000
DTSTAMP:20260423T224335
CREATED:20240202T191325Z
LAST-MODIFIED:20240202T191325Z
UID:10004227-1733576400-1733580000@www.gcparkstrails.com
SUMMARY:Santa Paws
DESCRIPTION:It’s Santa Paws!!! \nWell\, maybe it is another painting with your dog program\, this time it is a Christmas ornament for your tree! \nYour dog will be painting with the help of some peanut butter\, a wood ornament\, paint and a plastic bag. And if everything goes as planned\, you will have a masterpiece suitable for display on your tree! \nThis is a free program but registration is required. Please note that you do not have to arrive at 2 p.m.\, there will be enough supplies for those that register. ***PLEASE REGISTER YOUR DOG\, not the human***
URL:https://www.gcparkstrails.com/event/santa-paws/
LOCATION:GCPT Headquarters\, 635 Dayton-Xenia Rd.\, Xenia\, OH\, 45385
CATEGORIES:Family
END:VEVENT
BEGIN:VEVENT
DTSTART;TZID=America/New_York:20241207T180000
DTEND;TZID=America/New_York:20241207T210000
DTSTAMP:20260423T224335
CREATED:20240205T194044Z
LAST-MODIFIED:20240422T194000Z
UID:10005089-1733594400-1733605200@www.gcparkstrails.com
SUMMARY:ParkLights at Caesar Ford Park
DESCRIPTION:Forget deck the halls\, we’ve decked the park with dazzling lights! You’ll wind your way through our Winter Wonderland\, North Pole Car Show\, Winter Farm\, and Festive Festival\, then wave to Santa at the North Pole as you exit. \nDrive through once\, and you’ll want to do it again…as this Christmas event is FREE. \nDonations are gladly accepted at the wood house at the exit and support the program for years to come. \nBe sure to make this a holiday tradition! This event is open December 1-31st from 6-9pm
URL:https://www.gcparkstrails.com/event/parklights-at-caesar-ford-park/2024-12-07/
LOCATION:Caesar Ford Park\, 520 South Stringtown Road\, Xenia\, OH\, 45385\, United States
CATEGORIES:Annual Event
ATTACH;FMTTYPE=image/png:https://www.gcparkstrails.com/wp-content/uploads/2020/11/ParkLightsLogo.png
END:VEVENT
END:VCALENDAR