BEGIN:VCALENDAR
VERSION:2.0
PRODID:-//Greene County Parks &amp; Trails - ECPv6.15.18//NONSGML v1.0//EN
CALSCALE:GREGORIAN
METHOD:PUBLISH
X-WR-CALNAME:Greene County Parks &amp; Trails
X-ORIGINAL-URL:https://www.gcparkstrails.com
X-WR-CALDESC:Events for Greene County Parks &amp; Trails
REFRESH-INTERVAL;VALUE=DURATION:PT1H
X-Robots-Tag:noindex
X-PUBLISHED-TTL:PT1H
BEGIN:VTIMEZONE
TZID:America/New_York
BEGIN:DAYLIGHT
TZOFFSETFROM:-0500
TZOFFSETTO:-0400
TZNAME:EDT
DTSTART:20230312T070000
END:DAYLIGHT
BEGIN:STANDARD
TZOFFSETFROM:-0400
TZOFFSETTO:-0500
TZNAME:EST
DTSTART:20231105T060000
END:STANDARD
BEGIN:DAYLIGHT
TZOFFSETFROM:-0500
TZOFFSETTO:-0400
TZNAME:EDT
DTSTART:20240310T070000
END:DAYLIGHT
BEGIN:STANDARD
TZOFFSETFROM:-0400
TZOFFSETTO:-0500
TZNAME:EST
DTSTART:20241103T060000
END:STANDARD
BEGIN:DAYLIGHT
TZOFFSETFROM:-0500
TZOFFSETTO:-0400
TZNAME:EDT
DTSTART:20250309T070000
END:DAYLIGHT
BEGIN:STANDARD
TZOFFSETFROM:-0400
TZOFFSETTO:-0500
TZNAME:EST
DTSTART:20251102T060000
END:STANDARD
END:VTIMEZONE
BEGIN:VEVENT
DTSTART;TZID=America/New_York:20241105T100000
DTEND;TZID=America/New_York:20241105T120000
DTSTAMP:20260423T211738
CREATED:20240205T154209Z
LAST-MODIFIED:20240205T154209Z
UID:10004518-1730800800-1730808000@www.gcparkstrails.com
SUMMARY:Homeschool Science Days: Ohio Settlers
DESCRIPTION:Ohio Settlers\nExplore the log cabin at Indian Mound Reserve\, play games the way children did in the old days\, dress up in period costumes\, and more! Your homeschoolers will enjoy this interactive program where they will get a better understanding of what life was like for Ohio’s early settlers. \nHomeschool Science Days are station-based with various fun\, educational activities. These are drop in programs that begin at 10 am and go to noon. Please plan to arrive no later than 11:30 in order to have time to enjoy the activities.
URL:https://www.gcparkstrails.com/event/homeschool-science-days-ohio-settlers/
LOCATION:Indian Mound Reserve\, 2750 US Rt 42 E\, Cedarville\, OH\, 45314
CATEGORIES:Homeschool Science Days
END:VEVENT
BEGIN:VEVENT
DTSTART;TZID=America/New_York:20241105T180000
DTEND;TZID=America/New_York:20241105T200000
DTSTAMP:20260423T211738
CREATED:20240206T203358Z
LAST-MODIFIED:20240206T203358Z
UID:10004324-1730829600-1730836800@www.gcparkstrails.com
SUMMARY:Christmas Ornaments
DESCRIPTION:Join GCP&T as we get you ready for the holiday season with new\, hand-crafted ornaments for your tree! \nEach ornament is $2. You can register to make anywhere from 1-6 ornaments. \nMost supplies will be provided\, you are welcome to bring additional supplies to use. \nDue to space\, only registered guests may attend. \nOrnament design to be released SOON!  Check back…
URL:https://www.gcparkstrails.com/event/christmas-ornaments/
LOCATION:GCPT Headquarters\, 635 Dayton-Xenia Rd.\, Xenia\, OH\, 45385
CATEGORIES:DIY
END:VEVENT
END:VCALENDAR