BEGIN:VCALENDAR
VERSION:2.0
PRODID:-//Greene County Parks &amp; Trails - ECPv6.15.18//NONSGML v1.0//EN
CALSCALE:GREGORIAN
METHOD:PUBLISH
X-ORIGINAL-URL:https://www.gcparkstrails.com
X-WR-CALDESC:Events for Greene County Parks &amp; Trails
REFRESH-INTERVAL;VALUE=DURATION:PT1H
X-Robots-Tag:noindex
X-PUBLISHED-TTL:PT1H
BEGIN:VTIMEZONE
TZID:America/New_York
BEGIN:DAYLIGHT
TZOFFSETFROM:-0500
TZOFFSETTO:-0400
TZNAME:EDT
DTSTART:20230312T070000
END:DAYLIGHT
BEGIN:STANDARD
TZOFFSETFROM:-0400
TZOFFSETTO:-0500
TZNAME:EST
DTSTART:20231105T060000
END:STANDARD
BEGIN:DAYLIGHT
TZOFFSETFROM:-0500
TZOFFSETTO:-0400
TZNAME:EDT
DTSTART:20240310T070000
END:DAYLIGHT
BEGIN:STANDARD
TZOFFSETFROM:-0400
TZOFFSETTO:-0500
TZNAME:EST
DTSTART:20241103T060000
END:STANDARD
BEGIN:DAYLIGHT
TZOFFSETFROM:-0500
TZOFFSETTO:-0400
TZNAME:EDT
DTSTART:20250309T070000
END:DAYLIGHT
BEGIN:STANDARD
TZOFFSETFROM:-0400
TZOFFSETTO:-0500
TZNAME:EST
DTSTART:20251102T060000
END:STANDARD
END:VTIMEZONE
BEGIN:VEVENT
DTSTART;TZID=America/New_York:20241101T190000
DTEND;TZID=America/New_York:20241101T200000
DTSTAMP:20260423T211942
CREATED:20240202T191603Z
LAST-MODIFIED:20241001T123353Z
UID:10004232-1730487600-1730491200@www.gcparkstrails.com
SUMMARY:New Moon Hike
DESCRIPTION:If you love our Full Moon Hikes\, you will love the New Moon Hike just as much! \nDuring this phase\, the moon is very close to the sun\, so it is hard to be seen by the naked eye.  The night sky on this lunar phase is usually darker and other astral objects can be more visible.  The illumination of this phase is almost\, if not zero! \nJoin us for a hike around Russ Nature Reserve on this moonless night! Will your eyes be able to adapt like our nocturnal friends?  Flashlights are allowed (if necessary) but we hope that you can allow your eyes time to adjust so you can see in the dark. \nThis hike will be led by two of our education team members!
URL:https://www.gcparkstrails.com/event/new-moon-hike/
LOCATION:Russ Nature Reserve\, 2380 Kemp Road\, Beavercreek\, OH\, 45431\, United States
CATEGORIES:Hiking
END:VEVENT
END:VCALENDAR