BEGIN:VCALENDAR
VERSION:2.0
PRODID:-//Greene County Parks &amp; Trails - ECPv6.15.18//NONSGML v1.0//EN
CALSCALE:GREGORIAN
METHOD:PUBLISH
X-ORIGINAL-URL:https://www.gcparkstrails.com
X-WR-CALDESC:Events for Greene County Parks &amp; Trails
REFRESH-INTERVAL;VALUE=DURATION:PT1H
X-Robots-Tag:noindex
X-PUBLISHED-TTL:PT1H
BEGIN:VTIMEZONE
TZID:America/New_York
BEGIN:DAYLIGHT
TZOFFSETFROM:-0500
TZOFFSETTO:-0400
TZNAME:EDT
DTSTART:20230312T070000
END:DAYLIGHT
BEGIN:STANDARD
TZOFFSETFROM:-0400
TZOFFSETTO:-0500
TZNAME:EST
DTSTART:20231105T060000
END:STANDARD
BEGIN:DAYLIGHT
TZOFFSETFROM:-0500
TZOFFSETTO:-0400
TZNAME:EDT
DTSTART:20240310T070000
END:DAYLIGHT
BEGIN:STANDARD
TZOFFSETFROM:-0400
TZOFFSETTO:-0500
TZNAME:EST
DTSTART:20241103T060000
END:STANDARD
BEGIN:DAYLIGHT
TZOFFSETFROM:-0500
TZOFFSETTO:-0400
TZNAME:EDT
DTSTART:20250309T070000
END:DAYLIGHT
BEGIN:STANDARD
TZOFFSETFROM:-0400
TZOFFSETTO:-0500
TZNAME:EST
DTSTART:20251102T060000
END:STANDARD
END:VTIMEZONE
BEGIN:VEVENT
DTSTART;TZID=America/New_York:20241015T090000
DTEND;TZID=America/New_York:20241015T100000
DTSTAMP:20260423T224515
CREATED:20240205T153248Z
LAST-MODIFIED:20240502T135420Z
UID:10005482-1728982800-1728986400@www.gcparkstrails.com
SUMMARY:DISCOVERY HIKE: Spiders
DESCRIPTION:DISCOVERY HIKE: Spiders\nCrawl over to Spring Lakes Park to look for long-jawed orb weavers\, garden spiders\, jumping spiders and more on a hike through different habitats where these helpful creatures live. \nHomeschool Science Days DISCOVERY HIKES  last one hour and cover seasonal topics such as wildflowers\, habitats\, animal tracking and more.There is a maximum number of 50 participants per hike time. Groups will then be divided into smaller sizes depending on staff and volunteer availability.
URL:https://www.gcparkstrails.com/event/discovery-hike-spiders/2024-10-15/
LOCATION:Spring Lakes Park\, 2191 Ferry Road\, Bellbrook\, OH\, 45305\, United States
CATEGORIES:Homeschool Science Days
END:VEVENT
BEGIN:VEVENT
DTSTART;TZID=America/New_York:20241015T173000
DTEND;TZID=America/New_York:20241015T193000
DTSTAMP:20260423T224515
CREATED:20240206T161927Z
LAST-MODIFIED:20240206T161927Z
UID:10004550-1729013400-1729020600@www.gcparkstrails.com
SUMMARY:Greene Grasshoppers: Halloween Par-Tay!
DESCRIPTION:Kids\, parents\, grandparents\, aunts\, uncles\, cousins… you get the point\, this event is for the whole family! Put on your costume and join us for a ‘Halloween of a good time’ in the park! As we combine a dance party and trunk or treat in one event! So come on out and plan to have some fun! \n  \nGreene Grasshoppers \nGeared towards our kiddos 6-9 years old\, Greene Grasshoppers is a monthly program where they get have nothing but FUN in our parks. \nWith these station-based programs\, kids will experience a different topic each month. \nGreene Grasshoppers is FREE to attend and no registration is necessary\, they typically run from 6-8 pm until the fall.  You can come anytime during the two hours as long as you leave time to complete everything. \nNo Registration Required
URL:https://www.gcparkstrails.com/event/greene-grasshoppers-halloween-par-tay/
LOCATION:Fairgrounds Recreation Center\, 210 Fairground Road\, Xenia\, OH\, 45385\, United States
CATEGORIES:Greene Grasshoppers,Kids
END:VEVENT
END:VCALENDAR