BEGIN:VCALENDAR
VERSION:2.0
PRODID:-//Greene County Parks &amp; Trails - ECPv6.15.18//NONSGML v1.0//EN
CALSCALE:GREGORIAN
METHOD:PUBLISH
X-WR-CALNAME:Greene County Parks &amp; Trails
X-ORIGINAL-URL:https://www.gcparkstrails.com
X-WR-CALDESC:Events for Greene County Parks &amp; Trails
REFRESH-INTERVAL;VALUE=DURATION:PT1H
X-Robots-Tag:noindex
X-PUBLISHED-TTL:PT1H
BEGIN:VTIMEZONE
TZID:America/New_York
BEGIN:DAYLIGHT
TZOFFSETFROM:-0500
TZOFFSETTO:-0400
TZNAME:EDT
DTSTART:20230312T070000
END:DAYLIGHT
BEGIN:STANDARD
TZOFFSETFROM:-0400
TZOFFSETTO:-0500
TZNAME:EST
DTSTART:20231105T060000
END:STANDARD
BEGIN:DAYLIGHT
TZOFFSETFROM:-0500
TZOFFSETTO:-0400
TZNAME:EDT
DTSTART:20240310T070000
END:DAYLIGHT
BEGIN:STANDARD
TZOFFSETFROM:-0400
TZOFFSETTO:-0500
TZNAME:EST
DTSTART:20241103T060000
END:STANDARD
BEGIN:DAYLIGHT
TZOFFSETFROM:-0500
TZOFFSETTO:-0400
TZNAME:EDT
DTSTART:20250309T070000
END:DAYLIGHT
BEGIN:STANDARD
TZOFFSETFROM:-0400
TZOFFSETTO:-0500
TZNAME:EST
DTSTART:20251102T060000
END:STANDARD
END:VTIMEZONE
BEGIN:VEVENT
DTSTART;TZID=America/New_York:20241005T090000
DTEND;TZID=America/New_York:20241005T110000
DTSTAMP:20260423T224331
CREATED:20240207T142414Z
LAST-MODIFIED:20240207T142414Z
UID:10004624-1728118800-1728126000@www.gcparkstrails.com
SUMMARY:Morning Milers
DESCRIPTION:Join the GCP&T Trail Sentinels for an early morning ride along the region’s bike trails. GCP&T Trail Sentinels are an elite volunteer group who patrol the trails and coordinate several cycling events.\nThese rides are not for the beginner skill level and may include a short\, off-trail portion with an average of 25-35 miles at 14-16 MPH. \nRiders are FREE and meet at 8:30 AM with rides starting at 9 AM\, finishing around 11 AM. \nRides will be cancelled in the event of a inclement weather. \nAll night riders must:\nBe 18 and older\nWear a helmet\nHave bike repair items \nStarting Point Addresses:\nBeavercreek Community Park\n801 Factory Rd.\, Beavercreek\, OH 45434\nXenia Station\n150 S. Miami Ave.\, Xenia\, OH 45385 \nNo Registration Required
URL:https://www.gcparkstrails.com/event/morning-milers-7/2024-10-05/
LOCATION:Beavercreek Community Park\, 801 Factory Rd\, Beavercreek\, OH\, 45434\, United States
CATEGORIES:Cycling
END:VEVENT
BEGIN:VEVENT
DTSTART;TZID=America/New_York:20241005T180000
DTEND;TZID=America/New_York:20241005T210000
DTSTAMP:20260423T224331
CREATED:20240202T202656Z
LAST-MODIFIED:20240202T202656Z
UID:10004515-1728151200-1728162000@www.gcparkstrails.com
SUMMARY:Night of Romance
DESCRIPTION:Back by popular demand…… Join us for a Romantic Night Out at Caesar Ford Park where staff helps to take the guess work out of date night. \nUpon arrival\, you will find a setting fit for romance with tables for two\, and just the right amount of lighting and music for a romantic dinner. \nYour night will start with an appetizer along with a bottle of the house “sparkling” cider or juice. Following\, you will get a delicious salad\, with a main dinner buffet\, and a special dessert surprise just for two. \nAfter dinner\, join your partner on the dance floor for an evening to remember and/or take a romantic hike through the woods. The evening is yours… \nThe program is $65 for 2 people. Please only enter one person during the registration process. As much as we would like\, we are unable to provide a meal to cater to all dietary restrictions. This event will serve a vegetarian option only with the main course. \nThis program is $65 per couple\, please only register one person.
URL:https://www.gcparkstrails.com/event/night-of-romance/
LOCATION:Caesar Ford Park\, 520 South Stringtown Road\, Xenia\, OH\, 45385\, United States
CATEGORIES:Adults
END:VEVENT
END:VCALENDAR