BEGIN:VCALENDAR
VERSION:2.0
PRODID:-//Greene County Parks &amp; Trails - ECPv6.15.18//NONSGML v1.0//EN
CALSCALE:GREGORIAN
METHOD:PUBLISH
X-ORIGINAL-URL:https://www.gcparkstrails.com
X-WR-CALDESC:Events for Greene County Parks &amp; Trails
REFRESH-INTERVAL;VALUE=DURATION:PT1H
X-Robots-Tag:noindex
X-PUBLISHED-TTL:PT1H
BEGIN:VTIMEZONE
TZID:America/New_York
BEGIN:DAYLIGHT
TZOFFSETFROM:-0500
TZOFFSETTO:-0400
TZNAME:EDT
DTSTART:20230312T070000
END:DAYLIGHT
BEGIN:STANDARD
TZOFFSETFROM:-0400
TZOFFSETTO:-0500
TZNAME:EST
DTSTART:20231105T060000
END:STANDARD
BEGIN:DAYLIGHT
TZOFFSETFROM:-0500
TZOFFSETTO:-0400
TZNAME:EDT
DTSTART:20240310T070000
END:DAYLIGHT
BEGIN:STANDARD
TZOFFSETFROM:-0400
TZOFFSETTO:-0500
TZNAME:EST
DTSTART:20241103T060000
END:STANDARD
BEGIN:DAYLIGHT
TZOFFSETFROM:-0500
TZOFFSETTO:-0400
TZNAME:EDT
DTSTART:20250309T070000
END:DAYLIGHT
BEGIN:STANDARD
TZOFFSETFROM:-0400
TZOFFSETTO:-0500
TZNAME:EST
DTSTART:20251102T060000
END:STANDARD
END:VTIMEZONE
BEGIN:VEVENT
DTSTART;TZID=America/New_York:20240927T180000
DTEND;TZID=America/New_York:20240927T210000
DTSTAMP:20260424T015417
CREATED:20240202T182758Z
LAST-MODIFIED:20240205T182725Z
UID:10004468-1727460000-1727470800@www.gcparkstrails.com
SUMMARY:Bonfire & S'mores
DESCRIPTION:What a better way to say goodbye to Summer and welcome in Fall\, than to have a chill evening with friends in front of the fire?! \nWe will roast hot dogs\, make s’mores\, play some games and listen to music. \nSometimes all we want as teens is to just relax\, so this night can be as fun or as chill as you want. \nDue to materials\, registration is requested but not required. \nParents are not required to stay for this program.
URL:https://www.gcparkstrails.com/event/bonfire-smores/
LOCATION:Russ Nature Reserve\, 2380 Kemp Road\, Beavercreek\, OH\, 45431\, United States
CATEGORIES:Teens,Tweens
END:VEVENT
END:VCALENDAR