BEGIN:VCALENDAR
VERSION:2.0
PRODID:-//Greene County Parks &amp; Trails - ECPv6.15.18//NONSGML v1.0//EN
CALSCALE:GREGORIAN
METHOD:PUBLISH
X-ORIGINAL-URL:https://www.gcparkstrails.com
X-WR-CALDESC:Events for Greene County Parks &amp; Trails
REFRESH-INTERVAL;VALUE=DURATION:PT1H
X-Robots-Tag:noindex
X-PUBLISHED-TTL:PT1H
BEGIN:VTIMEZONE
TZID:America/New_York
BEGIN:DAYLIGHT
TZOFFSETFROM:-0500
TZOFFSETTO:-0400
TZNAME:EDT
DTSTART:20230312T070000
END:DAYLIGHT
BEGIN:STANDARD
TZOFFSETFROM:-0400
TZOFFSETTO:-0500
TZNAME:EST
DTSTART:20231105T060000
END:STANDARD
BEGIN:DAYLIGHT
TZOFFSETFROM:-0500
TZOFFSETTO:-0400
TZNAME:EDT
DTSTART:20240310T070000
END:DAYLIGHT
BEGIN:STANDARD
TZOFFSETFROM:-0400
TZOFFSETTO:-0500
TZNAME:EST
DTSTART:20241103T060000
END:STANDARD
BEGIN:DAYLIGHT
TZOFFSETFROM:-0500
TZOFFSETTO:-0400
TZNAME:EDT
DTSTART:20250309T070000
END:DAYLIGHT
BEGIN:STANDARD
TZOFFSETFROM:-0400
TZOFFSETTO:-0500
TZNAME:EST
DTSTART:20251102T060000
END:STANDARD
END:VTIMEZONE
BEGIN:VEVENT
DTSTART;TZID=America/New_York:20240921T090000
DTEND;TZID=America/New_York:20240921T110000
DTSTAMP:20260424T015152
CREATED:20240207T142414Z
LAST-MODIFIED:20240207T142414Z
UID:10004623-1726909200-1726916400@www.gcparkstrails.com
SUMMARY:Morning Milers
DESCRIPTION:Join the GCP&T Trail Sentinels for an early morning ride along the region’s bike trails. GCP&T Trail Sentinels are an elite volunteer group who patrol the trails and coordinate several cycling events.\nThese rides are not for the beginner skill level and may include a short\, off-trail portion with an average of 25-35 miles at 14-16 MPH. \nRiders are FREE and meet at 8:30 AM with rides starting at 9 AM\, finishing around 11 AM. \nRides will be cancelled in the event of a inclement weather. \nAll night riders must:\nBe 18 and older\nWear a helmet\nHave bike repair items \nStarting Point Addresses:\nBeavercreek Community Park\n801 Factory Rd.\, Beavercreek\, OH 45434\nXenia Station\n150 S. Miami Ave.\, Xenia\, OH 45385 \nNo Registration Required
URL:https://www.gcparkstrails.com/event/morning-milers-7/2024-09-21/
LOCATION:Beavercreek Community Park\, 801 Factory Rd\, Beavercreek\, OH\, 45434\, United States
CATEGORIES:Cycling
END:VEVENT
BEGIN:VEVENT
DTSTART;TZID=America/New_York:20240921T130000
DTEND;TZID=America/New_York:20240921T160000
DTSTAMP:20260424T015152
CREATED:20240202T192153Z
LAST-MODIFIED:20240202T192153Z
UID:10004474-1726923600-1726934400@www.gcparkstrails.com
SUMMARY:Monarch Tagging
DESCRIPTION:On their way to Mexico! Monarchs are on the move… \nBring the entire family out to participate in an international citizen science program by helping us capture and tag monarch butterflies. Come and see live monarchs and learn about their amazing life cycle and incredible migration to Mexico. Try and survive the monarch challenge and learn how you can help to save the monarchs and other pollinators. \nSome nets will be available to borrow for the program.
URL:https://www.gcparkstrails.com/event/monarch-tagging/
LOCATION:Russ Nature Reserve\, 2380 Kemp Road\, Beavercreek\, OH\, 45431\, United States
CATEGORIES:Family
END:VEVENT
END:VCALENDAR