BEGIN:VCALENDAR
VERSION:2.0
PRODID:-//Greene County Parks &amp; Trails - ECPv6.15.18//NONSGML v1.0//EN
CALSCALE:GREGORIAN
METHOD:PUBLISH
X-ORIGINAL-URL:https://www.gcparkstrails.com
X-WR-CALDESC:Events for Greene County Parks &amp; Trails
REFRESH-INTERVAL;VALUE=DURATION:PT1H
X-Robots-Tag:noindex
X-PUBLISHED-TTL:PT1H
BEGIN:VTIMEZONE
TZID:America/New_York
BEGIN:DAYLIGHT
TZOFFSETFROM:-0500
TZOFFSETTO:-0400
TZNAME:EDT
DTSTART:20230312T070000
END:DAYLIGHT
BEGIN:STANDARD
TZOFFSETFROM:-0400
TZOFFSETTO:-0500
TZNAME:EST
DTSTART:20231105T060000
END:STANDARD
BEGIN:DAYLIGHT
TZOFFSETFROM:-0500
TZOFFSETTO:-0400
TZNAME:EDT
DTSTART:20240310T070000
END:DAYLIGHT
BEGIN:STANDARD
TZOFFSETFROM:-0400
TZOFFSETTO:-0500
TZNAME:EST
DTSTART:20241103T060000
END:STANDARD
BEGIN:DAYLIGHT
TZOFFSETFROM:-0500
TZOFFSETTO:-0400
TZNAME:EDT
DTSTART:20250309T070000
END:DAYLIGHT
BEGIN:STANDARD
TZOFFSETFROM:-0400
TZOFFSETTO:-0500
TZNAME:EST
DTSTART:20251102T060000
END:STANDARD
END:VTIMEZONE
BEGIN:VEVENT
DTSTART;VALUE=DATE:20240822
DTEND;VALUE=DATE:20240825
DTSTAMP:20260424T045259
CREATED:20240103T195723Z
LAST-MODIFIED:20240103T195751Z
UID:10004467-1724284800-1724543999@www.gcparkstrails.com
SUMMARY:Greene Trails Cycling Classic
DESCRIPTION:The Greene Trails Cycling Classic is back!\nGather up your cycling friends and join the GCP&T Trail Sentinel team for a 3-day adventure. All rides will start at Fairgrounds Recreation Center in Xenia.
URL:https://www.gcparkstrails.com/event/greene-trails-cycling-classic/
LOCATION:Fairgrounds Recreation Center\, 210 Fairground Road\, Xenia\, OH\, 45385\, United States
CATEGORIES:Annual Event,Cycling
ATTACH;FMTTYPE=image/png:https://www.gcparkstrails.com/wp-content/uploads/2022/07/Cycling-Classic-logo-FINAL-nobkg.png
END:VEVENT
BEGIN:VEVENT
DTSTART;TZID=America/New_York:20240823T180000
DTEND;TZID=America/New_York:20240823T210000
DTSTAMP:20260424T045259
CREATED:20240205T191347Z
LAST-MODIFIED:20240205T191347Z
UID:10004297-1724436000-1724446800@www.gcparkstrails.com
SUMMARY:Slip 'n Slide Kickball
DESCRIPTION:Who’s up for a fun game of kickball?? \nThis month\, we play with a twist! Bring your friends\, build some teams and be prepared to get wet! \nAlthough our goal is to have tons of fun\, we can’t help but to admit there will be a fair amount of competition… So who will dominate this game of slip ‘n slide kickball?? \nDue to the nature of the program\, registration is requested but not required. \nParents are not required to stay for this program.
URL:https://www.gcparkstrails.com/event/slip-n-slide-kickball/
LOCATION:Russ Nature Reserve\, 2380 Kemp Road\, Beavercreek\, OH\, 45431\, United States
CATEGORIES:Teens,Tweens
END:VEVENT
END:VCALENDAR