BEGIN:VCALENDAR
VERSION:2.0
PRODID:-//Greene County Parks &amp; Trails - ECPv6.15.18//NONSGML v1.0//EN
CALSCALE:GREGORIAN
METHOD:PUBLISH
X-ORIGINAL-URL:https://www.gcparkstrails.com
X-WR-CALDESC:Events for Greene County Parks &amp; Trails
REFRESH-INTERVAL;VALUE=DURATION:PT1H
X-Robots-Tag:noindex
X-PUBLISHED-TTL:PT1H
BEGIN:VTIMEZONE
TZID:America/New_York
BEGIN:DAYLIGHT
TZOFFSETFROM:-0500
TZOFFSETTO:-0400
TZNAME:EDT
DTSTART:20230312T070000
END:DAYLIGHT
BEGIN:STANDARD
TZOFFSETFROM:-0400
TZOFFSETTO:-0500
TZNAME:EST
DTSTART:20231105T060000
END:STANDARD
BEGIN:DAYLIGHT
TZOFFSETFROM:-0500
TZOFFSETTO:-0400
TZNAME:EDT
DTSTART:20240310T070000
END:DAYLIGHT
BEGIN:STANDARD
TZOFFSETFROM:-0400
TZOFFSETTO:-0500
TZNAME:EST
DTSTART:20241103T060000
END:STANDARD
BEGIN:DAYLIGHT
TZOFFSETFROM:-0500
TZOFFSETTO:-0400
TZNAME:EDT
DTSTART:20250309T070000
END:DAYLIGHT
BEGIN:STANDARD
TZOFFSETFROM:-0400
TZOFFSETTO:-0500
TZNAME:EST
DTSTART:20251102T060000
END:STANDARD
END:VTIMEZONE
BEGIN:VEVENT
DTSTART;TZID=America/New_York:20240820T100000
DTEND;TZID=America/New_York:20240820T120000
DTSTAMP:20260424T045259
CREATED:20240205T145605Z
LAST-MODIFIED:20240208T153231Z
UID:10004517-1724148000-1724155200@www.gcparkstrails.com
SUMMARY:Homeschool Science Days: Geology
DESCRIPTION:Geology\nWhat’s the difference between a rock and a mineral? How did glaciers shape Indian Mound Reserve? What fossils are found here? Bring your homeschoolers out to find out the answers to these questions as they learn why geology ROCKS! \nHomeschool Science Days are station-based with various fun\, educational activities. These are drop in programs that begin at 10 am and go to noon. Please plan to arrive no later than 11:30 in order to have time to enjoy the activities.
URL:https://www.gcparkstrails.com/event/homeschool-science-days-geology/
LOCATION:Indian Mound Reserve\, 2750 US Rt 42 E\, Cedarville\, OH\, 45314
CATEGORIES:Homeschool Science Days
END:VEVENT
BEGIN:VEVENT
DTSTART;TZID=America/New_York:20240820T180000
DTEND;TZID=America/New_York:20240820T200000
DTSTAMP:20260424T045259
CREATED:20240206T160520Z
LAST-MODIFIED:20240206T160520Z
UID:10004551-1724176800-1724184000@www.gcparkstrails.com
SUMMARY:Greene Grasshopper: Bubble Party
DESCRIPTION:Bubbles\, bubbles EVERYWHERE! Could there be anything more fun than playing in a huge pile of bubbles? We don’t think so. Join us as we bring back our ever-popular BUBBLE MACHINE. Get out your play clothes\, bring along your water shoes and get ready to jump in the biggest pile of bubbles ever! Sunscreen and a bath towel are recommended. No personal items/toys permitted unless stated. Shoes must be worn at all times. \n  \nGreene Grasshoppers \nGeared towards our kiddos 6-9 years old\, Greene Grasshoppers is a monthly program where they get have nothing but FUN in our parks. \nWith these station-based programs\, kids will experience a different topic each month. \nGreene Grasshoppers is FREE to attend and no registration is necessary\, they typically run from 6-8 pm until the fall.  You can come anytime during the two hours as long as you leave time to complete everything. \nNo Registration Required
URL:https://www.gcparkstrails.com/event/greene-grasshopper-bubble-party/
LOCATION:Fairgrounds Recreation Center\, 210 Fairground Road\, Xenia\, OH\, 45385\, United States
CATEGORIES:Greene Grasshoppers,Kids
END:VEVENT
END:VCALENDAR