BEGIN:VCALENDAR
VERSION:2.0
PRODID:-//Greene County Parks &amp; Trails - ECPv6.15.18//NONSGML v1.0//EN
CALSCALE:GREGORIAN
METHOD:PUBLISH
X-WR-CALNAME:Greene County Parks &amp; Trails
X-ORIGINAL-URL:https://www.gcparkstrails.com
X-WR-CALDESC:Events for Greene County Parks &amp; Trails
REFRESH-INTERVAL;VALUE=DURATION:PT1H
X-Robots-Tag:noindex
X-PUBLISHED-TTL:PT1H
BEGIN:VTIMEZONE
TZID:America/New_York
BEGIN:DAYLIGHT
TZOFFSETFROM:-0500
TZOFFSETTO:-0400
TZNAME:EDT
DTSTART:20230312T070000
END:DAYLIGHT
BEGIN:STANDARD
TZOFFSETFROM:-0400
TZOFFSETTO:-0500
TZNAME:EST
DTSTART:20231105T060000
END:STANDARD
BEGIN:DAYLIGHT
TZOFFSETFROM:-0500
TZOFFSETTO:-0400
TZNAME:EDT
DTSTART:20240310T070000
END:DAYLIGHT
BEGIN:STANDARD
TZOFFSETFROM:-0400
TZOFFSETTO:-0500
TZNAME:EST
DTSTART:20241103T060000
END:STANDARD
BEGIN:DAYLIGHT
TZOFFSETFROM:-0500
TZOFFSETTO:-0400
TZNAME:EDT
DTSTART:20250309T070000
END:DAYLIGHT
BEGIN:STANDARD
TZOFFSETFROM:-0400
TZOFFSETTO:-0500
TZNAME:EST
DTSTART:20251102T060000
END:STANDARD
END:VTIMEZONE
BEGIN:VEVENT
DTSTART;TZID=America/New_York:20240810T090000
DTEND;TZID=America/New_York:20240810T110000
DTSTAMP:20260424T032257
CREATED:20240207T142414Z
LAST-MODIFIED:20240207T142414Z
UID:10004621-1723280400-1723287600@www.gcparkstrails.com
SUMMARY:Morning Milers
DESCRIPTION:Join the GCP&T Trail Sentinels for an early morning ride along the region’s bike trails. GCP&T Trail Sentinels are an elite volunteer group who patrol the trails and coordinate several cycling events.\nThese rides are not for the beginner skill level and may include a short\, off-trail portion with an average of 25-35 miles at 14-16 MPH. \nRiders are FREE and meet at 8:30 AM with rides starting at 9 AM\, finishing around 11 AM. \nRides will be cancelled in the event of a inclement weather. \nAll night riders must:\nBe 18 and older\nWear a helmet\nHave bike repair items \nStarting Point Addresses:\nBeavercreek Community Park\n801 Factory Rd.\, Beavercreek\, OH 45434\nXenia Station\n150 S. Miami Ave.\, Xenia\, OH 45385 \nNo Registration Required
URL:https://www.gcparkstrails.com/event/morning-milers-7/2024-08-10/
LOCATION:Beavercreek Community Park\, 801 Factory Rd\, Beavercreek\, OH\, 45434\, United States
CATEGORIES:Cycling
END:VEVENT
BEGIN:VEVENT
DTSTART;TZID=America/New_York:20240810T090000
DTEND;TZID=America/New_York:20240810T120000
DTSTAMP:20260424T032257
CREATED:20240202T201345Z
LAST-MODIFIED:20240202T201345Z
UID:10004494-1723280400-1723291200@www.gcparkstrails.com
SUMMARY:Stained Glass: Sunflower
DESCRIPTION:In this class you will learn the basic techniques of working with stained glass and decorative tinning to create this work of art to display in your home. \nPrice includes personal instruction and all the supplies needed to make one sun-catcher. \n**No refunds will be provided.  Craft supplies cannot be sent home for no-show registrants
URL:https://www.gcparkstrails.com/event/stained-glass-sunflower/2024-08-10/1/
LOCATION:Caesar Ford Park\, 520 South Stringtown Road\, Xenia\, OH\, 45385\, United States
CATEGORIES:DIY
END:VEVENT
BEGIN:VEVENT
DTSTART;TZID=America/New_York:20240810T100000
DTEND;TZID=America/New_York:20240810T120000
DTSTAMP:20260424T032257
CREATED:20240206T164111Z
LAST-MODIFIED:20240206T164111Z
UID:10004559-1723284000-1723291200@www.gcparkstrails.com
SUMMARY:Touch A Truck
DESCRIPTION:Firetrucks\, ambulances\, tractors\, OH MY!  What do you get when you fill a parking lot full of different working vehicles?  You get a whole morning of FUN! \nThis program isn’t just for our littlest park goers\, it is for the entire family!  So\,\ncome out to the Fairgrounds Recreation Center to get an up close look at the world of working vehicles. Cement trucks\, dump trucks\, military vehicles and more will greet you. Kids can climb in\, sit on and honk the horns of working vehicles (adults too!) \nBring along your cameras! \nNo Registration Required
URL:https://www.gcparkstrails.com/event/touch-a-truck/
LOCATION:Fairgrounds Recreation Center\, 210 Fairground Road\, Xenia\, OH\, 45385\, United States
CATEGORIES:Family
END:VEVENT
BEGIN:VEVENT
DTSTART;TZID=America/New_York:20240810T130000
DTEND;TZID=America/New_York:20240810T160000
DTSTAMP:20260424T032257
CREATED:20240202T201345Z
LAST-MODIFIED:20240202T201345Z
UID:10004495-1723294800-1723305600@www.gcparkstrails.com
SUMMARY:Stained Glass: Sunflower
DESCRIPTION:In this class you will learn the basic techniques of working with stained glass and decorative tinning to create this work of art to display in your home. \nPrice includes personal instruction and all the supplies needed to make one sun-catcher. \n**No refunds will be provided.  Craft supplies cannot be sent home for no-show registrants
URL:https://www.gcparkstrails.com/event/stained-glass-sunflower/2024-08-10/2/
LOCATION:Caesar Ford Park\, 520 South Stringtown Road\, Xenia\, OH\, 45385\, United States
CATEGORIES:DIY
END:VEVENT
END:VCALENDAR