BEGIN:VCALENDAR
VERSION:2.0
PRODID:-//Greene County Parks &amp; Trails - ECPv6.15.18//NONSGML v1.0//EN
CALSCALE:GREGORIAN
METHOD:PUBLISH
X-ORIGINAL-URL:https://www.gcparkstrails.com
X-WR-CALDESC:Events for Greene County Parks &amp; Trails
REFRESH-INTERVAL;VALUE=DURATION:PT1H
X-Robots-Tag:noindex
X-PUBLISHED-TTL:PT1H
BEGIN:VTIMEZONE
TZID:America/New_York
BEGIN:DAYLIGHT
TZOFFSETFROM:-0500
TZOFFSETTO:-0400
TZNAME:EDT
DTSTART:20230312T070000
END:DAYLIGHT
BEGIN:STANDARD
TZOFFSETFROM:-0400
TZOFFSETTO:-0500
TZNAME:EST
DTSTART:20231105T060000
END:STANDARD
BEGIN:DAYLIGHT
TZOFFSETFROM:-0500
TZOFFSETTO:-0400
TZNAME:EDT
DTSTART:20240310T070000
END:DAYLIGHT
BEGIN:STANDARD
TZOFFSETFROM:-0400
TZOFFSETTO:-0500
TZNAME:EST
DTSTART:20241103T060000
END:STANDARD
BEGIN:DAYLIGHT
TZOFFSETFROM:-0500
TZOFFSETTO:-0400
TZNAME:EDT
DTSTART:20250309T070000
END:DAYLIGHT
BEGIN:STANDARD
TZOFFSETFROM:-0400
TZOFFSETTO:-0500
TZNAME:EST
DTSTART:20251102T060000
END:STANDARD
END:VTIMEZONE
BEGIN:VEVENT
DTSTART;TZID=America/New_York:20240809T090000
DTEND;TZID=America/New_York:20240809T143000
DTSTAMP:20260424T032440
CREATED:20240206T173153Z
LAST-MODIFIED:20240208T154237Z
UID:10004591-1723194000-1723213800@www.gcparkstrails.com
SUMMARY:Critter Camp
DESCRIPTION:Are you a critter lover?  If so\, come explore the wonderful animals that call our parks home at Critter Camp! \nSpend the week with our naturalists as we search for wild critters in all sorts of habitats\, learning about their amazing adaptations.  You will also get to meet GCP&T animal ambassadors and have hands-on experiences with them! \nThis program will include a field trip to the Cincinnati Zoo to visit additional “critters” in the animal kingdom. \n***Field location subject to change based on scheduling***
URL:https://www.gcparkstrails.com/event/critter-camp/2024-08-09/
LOCATION:OH
CATEGORIES:Summer Camp
END:VEVENT
BEGIN:VEVENT
DTSTART;TZID=America/New_York:20240809T133000
DTEND;TZID=America/New_York:20240809T143000
DTSTAMP:20260424T032440
CREATED:20240716T131152Z
LAST-MODIFIED:20240716T131152Z
UID:10005485-1723210200-1723213800@www.gcparkstrails.com
SUMMARY:Music in the Park with Robert Colaner - "Bobby the Piano Guy"
DESCRIPTION:Come join us for a musical performance by Robert Colaner\, aka “Bobby the Piano Guy”! \nBob Colaner will be performing at the Fairgrounds Recreation Center Park\, large shelter\, on Friday\, August 9\, 2024\, from 1:30pm-2:30pm.  Mr. Colaner is a long time Xenia resident who studied at the University of Mount Union and earned a Bachelor’s Degree in Music Education.  Bob has been a classroom music teacher\, private music teacher\, arranger\, conductor and conference speaker. \nBob will be performing music which he will play on his electric keyboard.  We hope you will attend this program to enjoy some music from different eras\, including gentle piano jazz and a bit of Rock ‘n’ Roll! \nThis is a free event for those ages 55 and up.  Picnic tables are available or you are welcome to bring a comfortable chair along.  See you there! \nFairgrounds Recreation Center Park is located at:  210 Fairground Road\, Xenia\, Ohio\, next to the Greene County Fairgrounds and across from the James Ranch Park.
URL:https://www.gcparkstrails.com/event/music-in-the-park-with-robert-colaner-bobby-the-piano-guy/
LOCATION:Fairgrounds Recreation Center\, 210 Fairground Road\, Xenia\, OH\, 45385\, United States
CATEGORIES:Seniors
END:VEVENT
BEGIN:VEVENT
DTSTART;TZID=America/New_York:20240809T180000
DTEND;TZID=America/New_York:20240809T200000
DTSTAMP:20260424T032440
CREATED:20240202T200342Z
LAST-MODIFIED:20240208T172426Z
UID:10004490-1723226400-1723233600@www.gcparkstrails.com
SUMMARY:Trivia Quest
DESCRIPTION:Are you a know-it-all? An armchair Jeopardy Champion? \nWell\, join us at the Russ Nature Reserve for our new Trivia Night where you will be quizzed and challenged on a variety of topics. \nOur top “brainiacs” will receive a prize as well as bragging rights. \nTeams may have no more than 8 members. The program begins promptly at 6 pm. Late arrivals will be at a disadvantage due to missing the opportunity to answer all questions.
URL:https://www.gcparkstrails.com/event/trivia-quest-5/2024-08-09/
LOCATION:Russ Nature Reserve\, 2380 Kemp Road\, Beavercreek\, OH\, 45431\, United States
CATEGORIES:Adults
END:VEVENT
END:VCALENDAR