BEGIN:VCALENDAR
VERSION:2.0
PRODID:-//Greene County Parks &amp; Trails - ECPv6.15.18//NONSGML v1.0//EN
CALSCALE:GREGORIAN
METHOD:PUBLISH
X-WR-CALNAME:Greene County Parks &amp; Trails
X-ORIGINAL-URL:https://www.gcparkstrails.com
X-WR-CALDESC:Events for Greene County Parks &amp; Trails
REFRESH-INTERVAL;VALUE=DURATION:PT1H
X-Robots-Tag:noindex
X-PUBLISHED-TTL:PT1H
BEGIN:VTIMEZONE
TZID:America/New_York
BEGIN:DAYLIGHT
TZOFFSETFROM:-0500
TZOFFSETTO:-0400
TZNAME:EDT
DTSTART:20230312T070000
END:DAYLIGHT
BEGIN:STANDARD
TZOFFSETFROM:-0400
TZOFFSETTO:-0500
TZNAME:EST
DTSTART:20231105T060000
END:STANDARD
BEGIN:DAYLIGHT
TZOFFSETFROM:-0500
TZOFFSETTO:-0400
TZNAME:EDT
DTSTART:20240310T070000
END:DAYLIGHT
BEGIN:STANDARD
TZOFFSETFROM:-0400
TZOFFSETTO:-0500
TZNAME:EST
DTSTART:20241103T060000
END:STANDARD
BEGIN:DAYLIGHT
TZOFFSETFROM:-0500
TZOFFSETTO:-0400
TZNAME:EDT
DTSTART:20250309T070000
END:DAYLIGHT
BEGIN:STANDARD
TZOFFSETFROM:-0400
TZOFFSETTO:-0500
TZNAME:EST
DTSTART:20251102T060000
END:STANDARD
END:VTIMEZONE
BEGIN:VEVENT
DTSTART;TZID=America/New_York:20240808T090000
DTEND;TZID=America/New_York:20240808T143000
DTSTAMP:20260424T032306
CREATED:20240206T173153Z
LAST-MODIFIED:20240208T154237Z
UID:10004590-1723107600-1723127400@www.gcparkstrails.com
SUMMARY:Critter Camp
DESCRIPTION:Are you a critter lover?  If so\, come explore the wonderful animals that call our parks home at Critter Camp! \nSpend the week with our naturalists as we search for wild critters in all sorts of habitats\, learning about their amazing adaptations.  You will also get to meet GCP&T animal ambassadors and have hands-on experiences with them! \nThis program will include a field trip to the Cincinnati Zoo to visit additional “critters” in the animal kingdom. \n***Field location subject to change based on scheduling***
URL:https://www.gcparkstrails.com/event/critter-camp/2024-08-08/
LOCATION:OH
CATEGORIES:Summer Camp
END:VEVENT
BEGIN:VEVENT
DTSTART;TZID=America/New_York:20240808T093000
DTEND;TZID=America/New_York:20240808T100000
DTSTAMP:20260424T032306
CREATED:20240205T170740Z
LAST-MODIFIED:20240207T142846Z
UID:10004533-1723109400-1723111200@www.gcparkstrails.com
SUMMARY:Toddler & Me Hikes: Narrows Reserve
DESCRIPTION:  No Registration Required
URL:https://www.gcparkstrails.com/event/toddler-me-hikes-narrows-reserve/
LOCATION:Narrows Reserve\, 2575 Indian Ripple Road\, Xenia\, OH\, 45385\, United States
CATEGORIES:Hiking
END:VEVENT
BEGIN:VEVENT
DTSTART;TZID=America/New_York:20240808T180000
DTEND;TZID=America/New_York:20240808T200000
DTSTAMP:20260424T032306
CREATED:20240206T172427Z
LAST-MODIFIED:20240206T172427Z
UID:10004560-1723140000-1723147200@www.gcparkstrails.com
SUMMARY:Under the Sea
DESCRIPTION:I want to be where the creatures are…I wanna see\, wanna see them swimming! \nThat’s right\, our very popular “build-a-bear” program is going deep into the ocean as we take you on a marine life journey.  This station-based program will prepare you to care for your very own aquatic animal for years to come! \nWhat will you be taking home??  Join us to find out. \nThis is a FREE event\, animal types are limited in quantities. \n***Sorry\, we will not be sending unstuffed animals home for children not in attendance* \n\nDue to repeated no shows\, registration for this program will open one month prior.
URL:https://www.gcparkstrails.com/event/under-the-sea/
LOCATION:Russ Nature Reserve\, 2380 Kemp Road\, Beavercreek\, OH\, 45431\, United States
CATEGORIES:Kids
END:VEVENT
END:VCALENDAR