BEGIN:VCALENDAR
VERSION:2.0
PRODID:-//Greene County Parks &amp; Trails - ECPv6.15.18//NONSGML v1.0//EN
CALSCALE:GREGORIAN
METHOD:PUBLISH
X-ORIGINAL-URL:https://www.gcparkstrails.com
X-WR-CALDESC:Events for Greene County Parks &amp; Trails
REFRESH-INTERVAL;VALUE=DURATION:PT1H
X-Robots-Tag:noindex
X-PUBLISHED-TTL:PT1H
BEGIN:VTIMEZONE
TZID:America/New_York
BEGIN:DAYLIGHT
TZOFFSETFROM:-0500
TZOFFSETTO:-0400
TZNAME:EDT
DTSTART:20230312T070000
END:DAYLIGHT
BEGIN:STANDARD
TZOFFSETFROM:-0400
TZOFFSETTO:-0500
TZNAME:EST
DTSTART:20231105T060000
END:STANDARD
BEGIN:DAYLIGHT
TZOFFSETFROM:-0500
TZOFFSETTO:-0400
TZNAME:EDT
DTSTART:20240310T070000
END:DAYLIGHT
BEGIN:STANDARD
TZOFFSETFROM:-0400
TZOFFSETTO:-0500
TZNAME:EST
DTSTART:20241103T060000
END:STANDARD
BEGIN:DAYLIGHT
TZOFFSETFROM:-0500
TZOFFSETTO:-0400
TZNAME:EDT
DTSTART:20250309T070000
END:DAYLIGHT
BEGIN:STANDARD
TZOFFSETFROM:-0400
TZOFFSETTO:-0500
TZNAME:EST
DTSTART:20251102T060000
END:STANDARD
END:VTIMEZONE
BEGIN:VEVENT
DTSTART;TZID=America/New_York:20240807T090000
DTEND;TZID=America/New_York:20240807T100000
DTSTAMP:20260424T032359
CREATED:20240205T165449Z
LAST-MODIFIED:20240208T164856Z
UID:10004527-1723021200-1723024800@www.gcparkstrails.com
SUMMARY:Stroller Striders: Pearl's Fen
DESCRIPTION:Moms and Dads\, grandparents as well! Grab your sneakers and a coffee\, sippy cups too as you join staff for Stroller Striders. This walking program is geared towards those with little ones in strollers. \nThis one-hour walking program will get you and your little one(s) out in nature while enjoying the company of others. Walks will be cancelled if weather is not suitable.
URL:https://www.gcparkstrails.com/event/stroller-striders-pearls-fen/
LOCATION:Pearl’s Fen\, 4524 Byron Road\, Fairborn\, OH\, 45324\, United States
CATEGORIES:Hiking,Infants
END:VEVENT
BEGIN:VEVENT
DTSTART;TZID=America/New_York:20240807T090000
DTEND;TZID=America/New_York:20240807T143000
DTSTAMP:20260424T032359
CREATED:20240206T173153Z
LAST-MODIFIED:20240208T154237Z
UID:10004589-1723021200-1723041000@www.gcparkstrails.com
SUMMARY:Critter Camp
DESCRIPTION:Are you a critter lover?  If so\, come explore the wonderful animals that call our parks home at Critter Camp! \nSpend the week with our naturalists as we search for wild critters in all sorts of habitats\, learning about their amazing adaptations.  You will also get to meet GCP&T animal ambassadors and have hands-on experiences with them! \nThis program will include a field trip to the Cincinnati Zoo to visit additional “critters” in the animal kingdom. \n***Field location subject to change based on scheduling***
URL:https://www.gcparkstrails.com/event/critter-camp/2024-08-07/
LOCATION:OH
CATEGORIES:Summer Camp
END:VEVENT
END:VCALENDAR