BEGIN:VCALENDAR
VERSION:2.0
PRODID:-//Greene County Parks &amp; Trails - ECPv6.15.18//NONSGML v1.0//EN
CALSCALE:GREGORIAN
METHOD:PUBLISH
X-ORIGINAL-URL:https://www.gcparkstrails.com
X-WR-CALDESC:Events for Greene County Parks &amp; Trails
REFRESH-INTERVAL;VALUE=DURATION:PT1H
X-Robots-Tag:noindex
X-PUBLISHED-TTL:PT1H
BEGIN:VTIMEZONE
TZID:America/New_York
BEGIN:DAYLIGHT
TZOFFSETFROM:-0500
TZOFFSETTO:-0400
TZNAME:EDT
DTSTART:20230312T070000
END:DAYLIGHT
BEGIN:STANDARD
TZOFFSETFROM:-0400
TZOFFSETTO:-0500
TZNAME:EST
DTSTART:20231105T060000
END:STANDARD
BEGIN:DAYLIGHT
TZOFFSETFROM:-0500
TZOFFSETTO:-0400
TZNAME:EDT
DTSTART:20240310T070000
END:DAYLIGHT
BEGIN:STANDARD
TZOFFSETFROM:-0400
TZOFFSETTO:-0500
TZNAME:EST
DTSTART:20241103T060000
END:STANDARD
BEGIN:DAYLIGHT
TZOFFSETFROM:-0500
TZOFFSETTO:-0400
TZNAME:EDT
DTSTART:20250309T070000
END:DAYLIGHT
BEGIN:STANDARD
TZOFFSETFROM:-0400
TZOFFSETTO:-0500
TZNAME:EST
DTSTART:20251102T060000
END:STANDARD
END:VTIMEZONE
BEGIN:VEVENT
DTSTART;TZID=America/New_York:20240805T090000
DTEND;TZID=America/New_York:20240805T143000
DTSTAMP:20260424T045300
CREATED:20240206T173153Z
LAST-MODIFIED:20240208T154237Z
UID:10004587-1722848400-1722868200@www.gcparkstrails.com
SUMMARY:Critter Camp
DESCRIPTION:Are you a critter lover?  If so\, come explore the wonderful animals that call our parks home at Critter Camp! \nSpend the week with our naturalists as we search for wild critters in all sorts of habitats\, learning about their amazing adaptations.  You will also get to meet GCP&T animal ambassadors and have hands-on experiences with them! \nThis program will include a field trip to the Cincinnati Zoo to visit additional “critters” in the animal kingdom. \n***Field location subject to change based on scheduling***
URL:https://www.gcparkstrails.com/event/critter-camp/2024-08-05/
LOCATION:OH
CATEGORIES:Summer Camp
END:VEVENT
BEGIN:VEVENT
DTSTART;TZID=America/New_York:20240805T093000
DTEND;TZID=America/New_York:20240805T103000
DTSTAMP:20260424T045300
CREATED:20240205T163048Z
LAST-MODIFIED:20240208T164924Z
UID:10004523-1722850200-1722853800@www.gcparkstrails.com
SUMMARY:Babbling Bunnies: Water Play
DESCRIPTION:***Swim diapers are required to participate.*** \nParks are full of baby bunnies…but do they have babbling bunnies? Well we hope! \nBack for 2024\, we are offering programming for babies/tots from the ages of 6 months to 23 months. \nEach session will be one hour long and will include projects that the kids can do with assistance of their adult companion. You are not required to attend for the entire hour\, stop in at your leisure allowing time to complete the activities. \nParents/guardians are required to help.
URL:https://www.gcparkstrails.com/event/babbling-bunnies-water-play/
LOCATION:Russ Nature Reserve\, 2380 Kemp Road\, Beavercreek\, OH\, 45431\, United States
CATEGORIES:Infants
END:VEVENT
END:VCALENDAR