BEGIN:VCALENDAR
VERSION:2.0
PRODID:-//Greene County Parks &amp; Trails - ECPv6.15.18//NONSGML v1.0//EN
CALSCALE:GREGORIAN
METHOD:PUBLISH
X-WR-CALNAME:Greene County Parks &amp; Trails
X-ORIGINAL-URL:https://www.gcparkstrails.com
X-WR-CALDESC:Events for Greene County Parks &amp; Trails
REFRESH-INTERVAL;VALUE=DURATION:PT1H
X-Robots-Tag:noindex
X-PUBLISHED-TTL:PT1H
BEGIN:VTIMEZONE
TZID:America/New_York
BEGIN:DAYLIGHT
TZOFFSETFROM:-0500
TZOFFSETTO:-0400
TZNAME:EDT
DTSTART:20230312T070000
END:DAYLIGHT
BEGIN:STANDARD
TZOFFSETFROM:-0400
TZOFFSETTO:-0500
TZNAME:EST
DTSTART:20231105T060000
END:STANDARD
BEGIN:DAYLIGHT
TZOFFSETFROM:-0500
TZOFFSETTO:-0400
TZNAME:EDT
DTSTART:20240310T070000
END:DAYLIGHT
BEGIN:STANDARD
TZOFFSETFROM:-0400
TZOFFSETTO:-0500
TZNAME:EST
DTSTART:20241103T060000
END:STANDARD
BEGIN:DAYLIGHT
TZOFFSETFROM:-0500
TZOFFSETTO:-0400
TZNAME:EDT
DTSTART:20250309T070000
END:DAYLIGHT
BEGIN:STANDARD
TZOFFSETFROM:-0400
TZOFFSETTO:-0500
TZNAME:EST
DTSTART:20251102T060000
END:STANDARD
END:VTIMEZONE
BEGIN:VEVENT
DTSTART;TZID=America/New_York:20240718T090000
DTEND;TZID=America/New_York:20240718T143000
DTSTAMP:20260424T114343
CREATED:20240206T180303Z
LAST-MODIFIED:20240208T165143Z
UID:10004569-1721293200-1721313000@www.gcparkstrails.com
SUMMARY:Naturalist Camp
DESCRIPTION:What’s the best job in the world? Being a naturalist! \nExperience what it is like to work as a naturalist by taking care of animals at the Spring Lakes Critter Cove and completing your own scientific investigation. \nThe week will end with an overnight at one of Ohio’s greatest animal exhibits! Check back for additional details \nThe overnight stay\, dinner Thursday\, breakfast and lunch Friday are included.
URL:https://www.gcparkstrails.com/event/naturalist-camp/2024-07-18/
LOCATION:Spring Lakes Park\, 2191 Ferry Road\, Bellbrook\, OH\, 45305\, United States
CATEGORIES:Summer Camp
END:VEVENT
BEGIN:VEVENT
DTSTART;TZID=America/New_York:20240718T100000
DTEND;TZID=America/New_York:20240718T120000
DTSTAMP:20260424T114343
CREATED:20240205T171805Z
LAST-MODIFIED:20240205T172009Z
UID:10004537-1721296800-1721304000@www.gcparkstrails.com
SUMMARY:Wiggle Worms: Summer Olympics
DESCRIPTION:Summer Olympics\nWhat a better way to welcome in the 2024 Summer Olympics than to host our very own Wiggle Worms Summer Olympics! Join us as we test our abilities in some of our favorite super fun Olympic games and compete for that infamous gold medal! \nNo registration required.
URL:https://www.gcparkstrails.com/event/wiggle-worms-coloring-outside-the-lines/
LOCATION:Fairgrounds Recreation Center\, 210 Fairground Road\, Xenia\, OH\, 45385\, United States
CATEGORIES:Wiggle Worms
END:VEVENT
END:VCALENDAR