BEGIN:VCALENDAR
VERSION:2.0
PRODID:-//Greene County Parks &amp; Trails - ECPv6.15.18//NONSGML v1.0//EN
CALSCALE:GREGORIAN
METHOD:PUBLISH
X-ORIGINAL-URL:https://www.gcparkstrails.com
X-WR-CALDESC:Events for Greene County Parks &amp; Trails
REFRESH-INTERVAL;VALUE=DURATION:PT1H
X-Robots-Tag:noindex
X-PUBLISHED-TTL:PT1H
BEGIN:VTIMEZONE
TZID:America/New_York
BEGIN:DAYLIGHT
TZOFFSETFROM:-0500
TZOFFSETTO:-0400
TZNAME:EDT
DTSTART:20230312T070000
END:DAYLIGHT
BEGIN:STANDARD
TZOFFSETFROM:-0400
TZOFFSETTO:-0500
TZNAME:EST
DTSTART:20231105T060000
END:STANDARD
BEGIN:DAYLIGHT
TZOFFSETFROM:-0500
TZOFFSETTO:-0400
TZNAME:EDT
DTSTART:20240310T070000
END:DAYLIGHT
BEGIN:STANDARD
TZOFFSETFROM:-0400
TZOFFSETTO:-0500
TZNAME:EST
DTSTART:20241103T060000
END:STANDARD
BEGIN:DAYLIGHT
TZOFFSETFROM:-0500
TZOFFSETTO:-0400
TZNAME:EDT
DTSTART:20250309T070000
END:DAYLIGHT
BEGIN:STANDARD
TZOFFSETFROM:-0400
TZOFFSETTO:-0500
TZNAME:EST
DTSTART:20251102T060000
END:STANDARD
END:VTIMEZONE
BEGIN:VEVENT
DTSTART;TZID=America/New_York:20240626T090000
DTEND;TZID=America/New_York:20240626T130000
DTSTAMP:20260424T045250
CREATED:20240206T180851Z
LAST-MODIFIED:20240208T165209Z
UID:10004601-1719392400-1719406800@www.gcparkstrails.com
SUMMARY:Shiver Me Timbers Camp
DESCRIPTION:Ahoy Maties! \nAre you a landlubber? Do you know how to read a treasure map?   Does “X” really mark the spot? \nWell all hands on deck as we set sail on a week-long\, pirate themed adventure together.\nWe will have scavenger hunts\, make pirate-themed crafts and maybe we will find some pirate-booty! \nYo ho\, a pirates life for me!
URL:https://www.gcparkstrails.com/event/shiver-me-timbers-camp/2024-06-26/
LOCATION:Russ Nature Reserve\, 2380 Kemp Road\, Beavercreek\, OH\, 45431\, United States
CATEGORIES:Summer Camp
END:VEVENT
BEGIN:VEVENT
DTSTART;TZID=America/New_York:20240626T090000
DTEND;TZID=America/New_York:20240626T143000
DTSTAMP:20260424T045250
CREATED:20240206T205638Z
LAST-MODIFIED:20240208T173943Z
UID:10004334-1719392400-1719412200@www.gcparkstrails.com
SUMMARY:Junior Ranger Academy
DESCRIPTION:Would you like to become certified as a junior ranger and become an ambassador to Greene County Parks & Trails? Then join our week-long Junior Ranger Academy if you are up for the challenge. \nYouth\, ages 10-17\, will spend a week with the Ranger Division completing exciting missions and experiencing nature first-hand. \nCadets will get experience in: \nHiking/Fishing\nBike Safety…including ice cream\nGun Safety\n…and so much more! \nThursday will include an overnight (tents provided) at the Narrows Reserve complete with a cookout!  There will be a graduation ceremony on Friday\, parents are encouraged to attend! \nRegistrants will receive a detailed email regarding drop-off and pick-up locations after registration is complete.
URL:https://www.gcparkstrails.com/event/junior-ranger-academy/2024-06-26/
LOCATION:GCPT Headquarters\, 635 Dayton-Xenia Rd.\, Xenia\, OH\, 45385
CATEGORIES:Summer Camp
END:VEVENT
BEGIN:VEVENT
DTSTART;TZID=America/New_York:20240626T093000
DTEND;TZID=America/New_York:20240626T113000
DTSTAMP:20260424T045250
CREATED:20240206T175100Z
LAST-MODIFIED:20240208T174012Z
UID:10004583-1719394200-1719401400@www.gcparkstrails.com
SUMMARY:Grownups and ME ~ Dino-rific!
DESCRIPTION:You and your grownup will be setting out on a week-long adventure on all things DINOSAUR! \nLet’s dive into the dino dig pit and see what we can find!  What types of dinos are there?  Are they big\, small?  Do they fly\, walk?  What do they eat?  We will explore all of this and you will even make your own dinosaurs to take home with you. \nYou are gonna have a “roaring” good time…
URL:https://www.gcparkstrails.com/event/grownups-and-me-dino-rific/2024-06-26/
LOCATION:Karohl Park\, 2940 Hohl Dr\, Beavercreek\, OH\, 45432\, United States
CATEGORIES:Summer Camp
END:VEVENT
BEGIN:VEVENT
DTSTART;TZID=America/New_York:20240626T100000
DTEND;TZID=America/New_York:20240626T110000
DTSTAMP:20260424T045250
CREATED:20240205T182428Z
LAST-MODIFIED:20240208T174218Z
UID:10004541-1719396000-1719399600@www.gcparkstrails.com
SUMMARY:World of Imagination
DESCRIPTION:The world around you can be anything you would like for it to be…if you just use your imagination! \nMonthly\, we will be hosting story time at the Russ Nature Reserve followed by imaginative play in the Lovely Nature Playscape. So\, bring along a blanket or some chairs\, a snack or two and of course\, your imagination. \nKids are encouraged to come dressed in costumes of any type or creative clothing. This program will be cancelled for rain/thunderstorms. \nNo registration Required
URL:https://www.gcparkstrails.com/event/world-of-imagination-10/2024-06-26/
LOCATION:Russ Nature Reserve\, 2380 Kemp Road\, Beavercreek\, OH\, 45431\, United States
CATEGORIES:Kids
END:VEVENT
BEGIN:VEVENT
DTSTART;TZID=America/New_York:20240626T140000
DTEND;TZID=America/New_York:20240626T153000
DTSTAMP:20260424T045250
CREATED:20240207T150740Z
LAST-MODIFIED:20240207T150740Z
UID:10004630-1719410400-1719415800@www.gcparkstrails.com
SUMMARY:Music in the Park: David Mullikin
DESCRIPTION:David Mullikin \nLocal singer from Xenia\, in the park. David enjoys performing songs from various eras for your enjoyment. \nMusic in the Park\nIt’s that time of year for Music in the Park!  Let’s get together and listen to some “oldies but goodies” tunes! \nLet’s get out into the Greene County Parks and listen to some good music\, sing along\, and clap to the beat of the songs!  See you there! \nPicnic tables are available. Please feel free to bring a chair or blanket if you prefer. \nThese are FREE programs. \nNo Registration Required
URL:https://www.gcparkstrails.com/event/music-in-the-park-david-mullikin/2024-06-26/
LOCATION:Fairgrounds Recreation Center\, 210 Fairground Road\, Xenia\, OH\, 45385\, United States
CATEGORIES:Music,Seniors
END:VEVENT
END:VCALENDAR