BEGIN:VCALENDAR
VERSION:2.0
PRODID:-//Greene County Parks &amp; Trails - ECPv6.15.18//NONSGML v1.0//EN
CALSCALE:GREGORIAN
METHOD:PUBLISH
X-WR-CALNAME:Greene County Parks &amp; Trails
X-ORIGINAL-URL:https://www.gcparkstrails.com
X-WR-CALDESC:Events for Greene County Parks &amp; Trails
REFRESH-INTERVAL;VALUE=DURATION:PT1H
X-Robots-Tag:noindex
X-PUBLISHED-TTL:PT1H
BEGIN:VTIMEZONE
TZID:America/New_York
BEGIN:DAYLIGHT
TZOFFSETFROM:-0500
TZOFFSETTO:-0400
TZNAME:EDT
DTSTART:20230312T070000
END:DAYLIGHT
BEGIN:STANDARD
TZOFFSETFROM:-0400
TZOFFSETTO:-0500
TZNAME:EST
DTSTART:20231105T060000
END:STANDARD
BEGIN:DAYLIGHT
TZOFFSETFROM:-0500
TZOFFSETTO:-0400
TZNAME:EDT
DTSTART:20240310T070000
END:DAYLIGHT
BEGIN:STANDARD
TZOFFSETFROM:-0400
TZOFFSETTO:-0500
TZNAME:EST
DTSTART:20241103T060000
END:STANDARD
BEGIN:DAYLIGHT
TZOFFSETFROM:-0500
TZOFFSETTO:-0400
TZNAME:EDT
DTSTART:20250309T070000
END:DAYLIGHT
BEGIN:STANDARD
TZOFFSETFROM:-0400
TZOFFSETTO:-0500
TZNAME:EST
DTSTART:20251102T060000
END:STANDARD
END:VTIMEZONE
BEGIN:VEVENT
DTSTART;TZID=America/New_York:20240622T150000
DTEND;TZID=America/New_York:20240622T190000
DTSTAMP:20260424T032307
CREATED:20240202T195509Z
LAST-MODIFIED:20240422T193252Z
UID:10004485-1719068400-1719082800@www.gcparkstrails.com
SUMMARY:Backyard Cruise-In & Swap Meet
DESCRIPTION:Whether you are a classic car owner or a classic car enthusiast\, this event is for YOU! \nJoin the Greene County Parks & Trails Ranger Division for an End of Summer Cruise-In\, right in your backyard. Bring out the classic cars\, trucks\, bikes\, and all the family for an evening of fun as we fill Caesar Ford Park with oldies music\, laughter\, food\, friendship and more. \nThis is FREE to attend and each car that participants will be eligible for great door prizes. \nIn the event of inclement weather\, the event will be cancelled.
URL:https://www.gcparkstrails.com/event/backyard-cruise-in-swap-meet/
LOCATION:Caesar Ford Park\, 520 South Stringtown Road\, Xenia\, OH\, 45385\, United States
CATEGORIES:Family
END:VEVENT
BEGIN:VEVENT
DTSTART;TZID=America/New_York:20240622T190000
DTEND;TZID=America/New_York:20240622T210000
DTSTAMP:20260424T032307
CREATED:20240202T202431Z
LAST-MODIFIED:20240202T202431Z
UID:10004505-1719082800-1719090000@www.gcparkstrails.com
SUMMARY:Night Rides
DESCRIPTION:Join the GCP&T Trail Sentinels for a moonlight ride along the region’s bike trails. GCP&T Trail Sentinels are an elite volunteer group who patrol the trails and coordinate several cycling events.\nNight Rides are free and leave Xenia Station at 7 PM\, finishing around 9 PM. The average speed of the ride is 10 MPH. \nAll night riders must:\nBe 18 and older\nWear a helmet and have lights on their bikes\nHave bike repair items \n– Rides will be cancelled in the event of a inclement weather.
URL:https://www.gcparkstrails.com/event/night-rides/2024-06-22/
LOCATION:Xenia Station\, 150 Miami Avenue\, Xenia\, OH\, 45385\, United States
CATEGORIES:Cycling
END:VEVENT
END:VCALENDAR