BEGIN:VCALENDAR
VERSION:2.0
PRODID:-//Greene County Parks &amp; Trails - ECPv6.15.18//NONSGML v1.0//EN
CALSCALE:GREGORIAN
METHOD:PUBLISH
X-ORIGINAL-URL:https://www.gcparkstrails.com
X-WR-CALDESC:Events for Greene County Parks &amp; Trails
REFRESH-INTERVAL;VALUE=DURATION:PT1H
X-Robots-Tag:noindex
X-PUBLISHED-TTL:PT1H
BEGIN:VTIMEZONE
TZID:America/New_York
BEGIN:DAYLIGHT
TZOFFSETFROM:-0500
TZOFFSETTO:-0400
TZNAME:EDT
DTSTART:20230312T070000
END:DAYLIGHT
BEGIN:STANDARD
TZOFFSETFROM:-0400
TZOFFSETTO:-0500
TZNAME:EST
DTSTART:20231105T060000
END:STANDARD
BEGIN:DAYLIGHT
TZOFFSETFROM:-0500
TZOFFSETTO:-0400
TZNAME:EDT
DTSTART:20240310T070000
END:DAYLIGHT
BEGIN:STANDARD
TZOFFSETFROM:-0400
TZOFFSETTO:-0500
TZNAME:EST
DTSTART:20241103T060000
END:STANDARD
BEGIN:DAYLIGHT
TZOFFSETFROM:-0500
TZOFFSETTO:-0400
TZNAME:EDT
DTSTART:20250309T070000
END:DAYLIGHT
BEGIN:STANDARD
TZOFFSETFROM:-0400
TZOFFSETTO:-0500
TZNAME:EST
DTSTART:20251102T060000
END:STANDARD
END:VTIMEZONE
BEGIN:VEVENT
DTSTART;TZID=America/New_York:20240614T090000
DTEND;TZID=America/New_York:20240614T143000
DTSTAMP:20260424T045250
CREATED:20240206T180152Z
LAST-MODIFIED:20240208T173840Z
UID:10004575-1718355600-1718375400@www.gcparkstrails.com
SUMMARY:Minecraft Unplugged
DESCRIPTION:Experience all of the fun of Minecraft in the real world! \nGo mining\, use bows and arrows to shoot hostile mobs\, go on exciting quests in the woods and creeks\, and so much more!
URL:https://www.gcparkstrails.com/event/minecraft-unplugged/2024-06-14/
LOCATION:Narrows Reserve\, 2575 Indian Ripple Road\, Xenia\, OH\, 45385\, United States
CATEGORIES:Summer Camp
END:VEVENT
BEGIN:VEVENT
DTSTART;TZID=America/New_York:20240614T100000
DTEND;TZID=America/New_York:20240614T120000
DTSTAMP:20260424T045250
CREATED:20240206T155409Z
LAST-MODIFIED:20240206T155409Z
UID:10004548-1718359200-1718366400@www.gcparkstrails.com
SUMMARY:Anything on Wheels
DESCRIPTION:Bikes\, scooters\, pedal cars and more! If it has wheels\, and can be ridden by a child\, then bring it out to the Fairgrounds Recreation Center for some fun! \nAnything on Wheels is designed to get kids out and about\, playing with others\, while having some fun. \nChildren must bring their riding toys\, none will be available for loan. \nParents are required to remain with their children during this program.
URL:https://www.gcparkstrails.com/event/anything-on-wheels-2/
LOCATION:Fairgrounds Recreation Center\, 210 Fairground Road\, Xenia\, OH\, 45385\, United States
CATEGORIES:Kids
END:VEVENT
BEGIN:VEVENT
DTSTART;TZID=America/New_York:20240614T180000
DTEND;TZID=America/New_York:20240614T200000
DTSTAMP:20260424T045250
CREATED:20240202T200342Z
LAST-MODIFIED:20240208T172426Z
UID:10004488-1718388000-1718395200@www.gcparkstrails.com
SUMMARY:Trivia Quest
DESCRIPTION:Are you a know-it-all? An armchair Jeopardy Champion? \nWell\, join us at the Russ Nature Reserve for our new Trivia Night where you will be quizzed and challenged on a variety of topics. \nOur top “brainiacs” will receive a prize as well as bragging rights. \nTeams may have no more than 8 members. The program begins promptly at 6 pm. Late arrivals will be at a disadvantage due to missing the opportunity to answer all questions.
URL:https://www.gcparkstrails.com/event/trivia-quest-5/2024-06-14/
LOCATION:Russ Nature Reserve\, 2380 Kemp Road\, Beavercreek\, OH\, 45431\, United States
CATEGORIES:Adults
END:VEVENT
END:VCALENDAR