BEGIN:VCALENDAR
VERSION:2.0
PRODID:-//Greene County Parks &amp; Trails - ECPv6.15.18//NONSGML v1.0//EN
CALSCALE:GREGORIAN
METHOD:PUBLISH
X-ORIGINAL-URL:https://www.gcparkstrails.com
X-WR-CALDESC:Events for Greene County Parks &amp; Trails
REFRESH-INTERVAL;VALUE=DURATION:PT1H
X-Robots-Tag:noindex
X-PUBLISHED-TTL:PT1H
BEGIN:VTIMEZONE
TZID:America/New_York
BEGIN:DAYLIGHT
TZOFFSETFROM:-0500
TZOFFSETTO:-0400
TZNAME:EDT
DTSTART:20230312T070000
END:DAYLIGHT
BEGIN:STANDARD
TZOFFSETFROM:-0400
TZOFFSETTO:-0500
TZNAME:EST
DTSTART:20231105T060000
END:STANDARD
BEGIN:DAYLIGHT
TZOFFSETFROM:-0500
TZOFFSETTO:-0400
TZNAME:EDT
DTSTART:20240310T070000
END:DAYLIGHT
BEGIN:STANDARD
TZOFFSETFROM:-0400
TZOFFSETTO:-0500
TZNAME:EST
DTSTART:20241103T060000
END:STANDARD
BEGIN:DAYLIGHT
TZOFFSETFROM:-0500
TZOFFSETTO:-0400
TZNAME:EDT
DTSTART:20250309T070000
END:DAYLIGHT
BEGIN:STANDARD
TZOFFSETFROM:-0400
TZOFFSETTO:-0500
TZNAME:EST
DTSTART:20251102T060000
END:STANDARD
END:VTIMEZONE
BEGIN:VEVENT
DTSTART;TZID=America/New_York:20240608T130000
DTEND;TZID=America/New_York:20240608T143000
DTSTAMP:20260424T045231
CREATED:20240207T192711Z
LAST-MODIFIED:20240207T192711Z
UID:10004636-1717851600-1717857000@www.gcparkstrails.com
SUMMARY:Fabulous Fairy Gardening
DESCRIPTION:Have you ever wanted to create your own “Fabulous Fairy Garden”?  Please plan to attend and this program and bring a grandchild\, or just yourself\, and learn to put together a quick and easy fairy garden! \nYou will also take a quick guided tour through the James Ranch Garden for inspiration!  Following the tour\, you will have the opportunity to make a project to take home with you. \nKim Hupman\, Horticulture Program Assistant\, Ohio State University Extension\, Greene County\, will present this fun program and lead you through the process of creating your very own Fabulous Fairy Garden! \nSupplies will be provided.  This is a FREE program. \nPicnic tables are provided.  Please bring a chair or cushion for your comfort.
URL:https://www.gcparkstrails.com/event/fabulous-fairy-gardening/
LOCATION:James Ranch Park\, 177 Fairground Road\, Xenia\, OH\, 45385\, United States
CATEGORIES:Seniors
END:VEVENT
BEGIN:VEVENT
DTSTART;TZID=America/New_York:20240608T190000
DTEND;TZID=America/New_York:20240608T210000
DTSTAMP:20260424T045231
CREATED:20240202T202431Z
LAST-MODIFIED:20240202T202431Z
UID:10004504-1717873200-1717880400@www.gcparkstrails.com
SUMMARY:Night Rides
DESCRIPTION:Join the GCP&T Trail Sentinels for a moonlight ride along the region’s bike trails. GCP&T Trail Sentinels are an elite volunteer group who patrol the trails and coordinate several cycling events.\nNight Rides are free and leave Xenia Station at 7 PM\, finishing around 9 PM. The average speed of the ride is 10 MPH. \nAll night riders must:\nBe 18 and older\nWear a helmet and have lights on their bikes\nHave bike repair items \n– Rides will be cancelled in the event of a inclement weather.
URL:https://www.gcparkstrails.com/event/night-rides/2024-06-08/
LOCATION:Xenia Station\, 150 Miami Avenue\, Xenia\, OH\, 45385\, United States
CATEGORIES:Cycling
END:VEVENT
END:VCALENDAR