BEGIN:VCALENDAR
VERSION:2.0
PRODID:-//Greene County Parks &amp; Trails - ECPv6.15.18//NONSGML v1.0//EN
CALSCALE:GREGORIAN
METHOD:PUBLISH
X-WR-CALNAME:Greene County Parks &amp; Trails
X-ORIGINAL-URL:https://www.gcparkstrails.com
X-WR-CALDESC:Events for Greene County Parks &amp; Trails
REFRESH-INTERVAL;VALUE=DURATION:PT1H
X-Robots-Tag:noindex
X-PUBLISHED-TTL:PT1H
BEGIN:VTIMEZONE
TZID:America/New_York
BEGIN:DAYLIGHT
TZOFFSETFROM:-0500
TZOFFSETTO:-0400
TZNAME:EDT
DTSTART:20230312T070000
END:DAYLIGHT
BEGIN:STANDARD
TZOFFSETFROM:-0400
TZOFFSETTO:-0500
TZNAME:EST
DTSTART:20231105T060000
END:STANDARD
BEGIN:DAYLIGHT
TZOFFSETFROM:-0500
TZOFFSETTO:-0400
TZNAME:EDT
DTSTART:20240310T070000
END:DAYLIGHT
BEGIN:STANDARD
TZOFFSETFROM:-0400
TZOFFSETTO:-0500
TZNAME:EST
DTSTART:20241103T060000
END:STANDARD
BEGIN:DAYLIGHT
TZOFFSETFROM:-0500
TZOFFSETTO:-0400
TZNAME:EDT
DTSTART:20250309T070000
END:DAYLIGHT
BEGIN:STANDARD
TZOFFSETFROM:-0400
TZOFFSETTO:-0500
TZNAME:EST
DTSTART:20251102T060000
END:STANDARD
END:VTIMEZONE
BEGIN:VEVENT
DTSTART;TZID=America/New_York:20240607T090000
DTEND;TZID=America/New_York:20240607T210000
DTSTAMP:20260424T032216
CREATED:20240206T210731Z
LAST-MODIFIED:20240208T165247Z
UID:10004342-1717750800-1717794000@www.gcparkstrails.com
SUMMARY:Roughin' It
DESCRIPTION:Cooking over an open fire\, tossing a tomahawk\, and building your own shelter are all included in this week of outdoor adventure. \nEach camper will also receive their very own pocket knife. Campers will spend Thursday night with us at a camp out at Caesar Ford Park. \nTents\, dinner\, snack\, and breakfast will be provided during the camp out.
URL:https://www.gcparkstrails.com/event/roughin-it/2024-06-07/
LOCATION:Caesar Ford Park\, 520 South Stringtown Road\, Xenia\, OH\, 45385\, United States
CATEGORIES:Summer Camp
END:VEVENT
BEGIN:VEVENT
DTSTART;TZID=America/New_York:20240607T190000
DTEND;TZID=America/New_York:20240607T220000
DTSTAMP:20260424T032216
CREATED:20240202T200640Z
LAST-MODIFIED:20240202T200640Z
UID:10004491-1717786800-1717797600@www.gcparkstrails.com
SUMMARY:Throw Back to the 90's ~ Adult Prom
DESCRIPTION:Let’s reminisce together as we relive our younger days\, no more sitting on the sidelines watching our kids have all the fun. A DJ will be playing all of your favorite 90’s hits\, we will have snacks galore\, and a photographer to capture the memories! \nWait! That’s not all…we can’t forget the ‘after prom’ shenanigans! \nFormal wear is encouraged\, but not required.
URL:https://www.gcparkstrails.com/event/throw-back-to-the-90s-adult-prom/
LOCATION:Clifton Reserve & Lodge\, 2762 S. River Rd.\, Clifton\, OH\, 45316\, United States
CATEGORIES:Adults
END:VEVENT
END:VCALENDAR