BEGIN:VCALENDAR
VERSION:2.0
PRODID:-//Greene County Parks &amp; Trails - ECPv6.15.18//NONSGML v1.0//EN
CALSCALE:GREGORIAN
METHOD:PUBLISH
X-WR-CALNAME:Greene County Parks &amp; Trails
X-ORIGINAL-URL:https://www.gcparkstrails.com
X-WR-CALDESC:Events for Greene County Parks &amp; Trails
REFRESH-INTERVAL;VALUE=DURATION:PT1H
X-Robots-Tag:noindex
X-PUBLISHED-TTL:PT1H
BEGIN:VTIMEZONE
TZID:America/New_York
BEGIN:DAYLIGHT
TZOFFSETFROM:-0500
TZOFFSETTO:-0400
TZNAME:EDT
DTSTART:20230312T070000
END:DAYLIGHT
BEGIN:STANDARD
TZOFFSETFROM:-0400
TZOFFSETTO:-0500
TZNAME:EST
DTSTART:20231105T060000
END:STANDARD
BEGIN:DAYLIGHT
TZOFFSETFROM:-0500
TZOFFSETTO:-0400
TZNAME:EDT
DTSTART:20240310T070000
END:DAYLIGHT
BEGIN:STANDARD
TZOFFSETFROM:-0400
TZOFFSETTO:-0500
TZNAME:EST
DTSTART:20241103T060000
END:STANDARD
BEGIN:DAYLIGHT
TZOFFSETFROM:-0500
TZOFFSETTO:-0400
TZNAME:EDT
DTSTART:20250309T070000
END:DAYLIGHT
BEGIN:STANDARD
TZOFFSETFROM:-0400
TZOFFSETTO:-0500
TZNAME:EST
DTSTART:20251102T060000
END:STANDARD
END:VTIMEZONE
BEGIN:VEVENT
DTSTART;TZID=America/New_York:20240606T090000
DTEND;TZID=America/New_York:20240606T235900
DTSTAMP:20260424T032307
CREATED:20240206T210731Z
LAST-MODIFIED:20240208T165247Z
UID:10004341-1717664400-1717718340@www.gcparkstrails.com
SUMMARY:Roughin' It
DESCRIPTION:Cooking over an open fire\, tossing a tomahawk\, and building your own shelter are all included in this week of outdoor adventure. \nEach camper will also receive their very own pocket knife. Campers will spend Thursday night with us at a camp out at Caesar Ford Park. \nTents\, dinner\, snack\, and breakfast will be provided during the camp out.
URL:https://www.gcparkstrails.com/event/roughin-it/2024-06-06/
LOCATION:Caesar Ford Park\, 520 South Stringtown Road\, Xenia\, OH\, 45385\, United States
CATEGORIES:Summer Camp
END:VEVENT
BEGIN:VEVENT
DTSTART;TZID=America/New_York:20240606T093000
DTEND;TZID=America/New_York:20240606T100000
DTSTAMP:20260424T032307
CREATED:20240205T170626Z
LAST-MODIFIED:20240207T142949Z
UID:10004532-1717666200-1717668000@www.gcparkstrails.com
SUMMARY:Toddler & Me Hikes: Pearl's Fen
DESCRIPTION:  No Registration Required
URL:https://www.gcparkstrails.com/event/toddler-me-hikes-pearls-fen/
LOCATION:Pearl’s Fen\, 4524 Byron Road\, Fairborn\, OH\, 45324\, United States
CATEGORIES:Hiking
END:VEVENT
END:VCALENDAR