BEGIN:VCALENDAR
VERSION:2.0
PRODID:-//Greene County Parks &amp; Trails - ECPv6.15.18//NONSGML v1.0//EN
CALSCALE:GREGORIAN
METHOD:PUBLISH
X-WR-CALNAME:Greene County Parks &amp; Trails
X-ORIGINAL-URL:https://www.gcparkstrails.com
X-WR-CALDESC:Events for Greene County Parks &amp; Trails
REFRESH-INTERVAL;VALUE=DURATION:PT1H
X-Robots-Tag:noindex
X-PUBLISHED-TTL:PT1H
BEGIN:VTIMEZONE
TZID:America/New_York
BEGIN:DAYLIGHT
TZOFFSETFROM:-0500
TZOFFSETTO:-0400
TZNAME:EDT
DTSTART:20230312T070000
END:DAYLIGHT
BEGIN:STANDARD
TZOFFSETFROM:-0400
TZOFFSETTO:-0500
TZNAME:EST
DTSTART:20231105T060000
END:STANDARD
BEGIN:DAYLIGHT
TZOFFSETFROM:-0500
TZOFFSETTO:-0400
TZNAME:EDT
DTSTART:20240310T070000
END:DAYLIGHT
BEGIN:STANDARD
TZOFFSETFROM:-0400
TZOFFSETTO:-0500
TZNAME:EST
DTSTART:20241103T060000
END:STANDARD
BEGIN:DAYLIGHT
TZOFFSETFROM:-0500
TZOFFSETTO:-0400
TZNAME:EDT
DTSTART:20250309T070000
END:DAYLIGHT
BEGIN:STANDARD
TZOFFSETFROM:-0400
TZOFFSETTO:-0500
TZNAME:EST
DTSTART:20251102T060000
END:STANDARD
END:VTIMEZONE
BEGIN:VEVENT
DTSTART;TZID=America/New_York:20240516T100000
DTEND;TZID=America/New_York:20240516T120000
DTSTAMP:20260424T015249
CREATED:20240205T171629Z
LAST-MODIFIED:20240205T171629Z
UID:10004536-1715853600-1715860800@www.gcparkstrails.com
SUMMARY:Wiggle Worms: How Does Your Garden Grow
DESCRIPTION:How Does Your Garden Grow?\nMary\, Mary quite contrary\, how does your garden grow? With Wiggle Worms at the park\, planting seeds to sow. Our first program of the year\, your little will have fun learning how to grow flowers and plants from seeds and putting together their very own mini garden. *Registration is requested to assist with supplies.
URL:https://www.gcparkstrails.com/event/wiggle-worms-how-does-your-garden-grow/
LOCATION:Fairgrounds Recreation Center\, 210 Fairground Road\, Xenia\, OH\, 45385\, United States
CATEGORIES:Wiggle Worms
END:VEVENT
BEGIN:VEVENT
DTSTART;TZID=America/New_York:20240516T180000
DTEND;TZID=America/New_York:20240516T210000
DTSTAMP:20260424T015249
CREATED:20240202T191835Z
LAST-MODIFIED:20240202T191835Z
UID:10004472-1715882400-1715893200@www.gcparkstrails.com
SUMMARY:Nature Board Game Night
DESCRIPTION:You won’t be bored with nature during our Nature Board Game Night. Drop by to play a game or two. This is a game night for both children and adults. We will have a few select nature-themed games for you to try. \nSnacks and drinks will be provided.
URL:https://www.gcparkstrails.com/event/nature-board-game-night/2024-05-16/
LOCATION:Caesar Ford Park\, 520 South Stringtown Road\, Xenia\, OH\, 45385\, United States
CATEGORIES:Family
END:VEVENT
END:VCALENDAR