BEGIN:VCALENDAR
VERSION:2.0
PRODID:-//Greene County Parks &amp; Trails - ECPv6.15.18//NONSGML v1.0//EN
CALSCALE:GREGORIAN
METHOD:PUBLISH
X-ORIGINAL-URL:https://www.gcparkstrails.com
X-WR-CALDESC:Events for Greene County Parks &amp; Trails
REFRESH-INTERVAL;VALUE=DURATION:PT1H
X-Robots-Tag:noindex
X-PUBLISHED-TTL:PT1H
BEGIN:VTIMEZONE
TZID:America/New_York
BEGIN:DAYLIGHT
TZOFFSETFROM:-0500
TZOFFSETTO:-0400
TZNAME:EDT
DTSTART:20230312T070000
END:DAYLIGHT
BEGIN:STANDARD
TZOFFSETFROM:-0400
TZOFFSETTO:-0500
TZNAME:EST
DTSTART:20231105T060000
END:STANDARD
BEGIN:DAYLIGHT
TZOFFSETFROM:-0500
TZOFFSETTO:-0400
TZNAME:EDT
DTSTART:20240310T070000
END:DAYLIGHT
BEGIN:STANDARD
TZOFFSETFROM:-0400
TZOFFSETTO:-0500
TZNAME:EST
DTSTART:20241103T060000
END:STANDARD
BEGIN:DAYLIGHT
TZOFFSETFROM:-0500
TZOFFSETTO:-0400
TZNAME:EDT
DTSTART:20250309T070000
END:DAYLIGHT
BEGIN:STANDARD
TZOFFSETFROM:-0400
TZOFFSETTO:-0500
TZNAME:EST
DTSTART:20251102T060000
END:STANDARD
END:VTIMEZONE
BEGIN:VEVENT
DTSTART;TZID=America/New_York:20240514T090000
DTEND;TZID=America/New_York:20240514T100000
DTSTAMP:20260424T001644
CREATED:20240205T145131Z
LAST-MODIFIED:20240502T134322Z
UID:10005479-1715677200-1715680800@www.gcparkstrails.com
SUMMARY:Homeschool Science Days: Habitats
DESCRIPTION:DISCOVERY HIKE: Habitats\nJoin us for a walk around a pond\, through a prairie and into a forest. Learn what plants and animals call those places home and what adaptations they have to live where they do. \nHomeschool Science Days DISCOVERY HIKES  last one hour and cover seasonal topics such as wildflowers\, habitats\, animal tracking and more.There is a maximum number of 50 participants per hike time. Groups will then be divided into smaller sizes depending on staff and volunteer availability.
URL:https://www.gcparkstrails.com/event/homeschool-science-days-habitats/2024-05-14/
LOCATION:Russ Nature Reserve\, 2380 Kemp Road\, Beavercreek\, OH\, 45431\, United States
CATEGORIES:Homeschool Science Days
END:VEVENT
END:VCALENDAR