BEGIN:VCALENDAR
VERSION:2.0
PRODID:-//Greene County Parks &amp; Trails - ECPv6.15.18//NONSGML v1.0//EN
CALSCALE:GREGORIAN
METHOD:PUBLISH
X-WR-CALNAME:Greene County Parks &amp; Trails
X-ORIGINAL-URL:https://www.gcparkstrails.com
X-WR-CALDESC:Events for Greene County Parks &amp; Trails
REFRESH-INTERVAL;VALUE=DURATION:PT1H
X-Robots-Tag:noindex
X-PUBLISHED-TTL:PT1H
BEGIN:VTIMEZONE
TZID:America/New_York
BEGIN:DAYLIGHT
TZOFFSETFROM:-0500
TZOFFSETTO:-0400
TZNAME:EDT
DTSTART:20230312T070000
END:DAYLIGHT
BEGIN:STANDARD
TZOFFSETFROM:-0400
TZOFFSETTO:-0500
TZNAME:EST
DTSTART:20231105T060000
END:STANDARD
BEGIN:DAYLIGHT
TZOFFSETFROM:-0500
TZOFFSETTO:-0400
TZNAME:EDT
DTSTART:20240310T070000
END:DAYLIGHT
BEGIN:STANDARD
TZOFFSETFROM:-0400
TZOFFSETTO:-0500
TZNAME:EST
DTSTART:20241103T060000
END:STANDARD
BEGIN:DAYLIGHT
TZOFFSETFROM:-0500
TZOFFSETTO:-0400
TZNAME:EDT
DTSTART:20250309T070000
END:DAYLIGHT
BEGIN:STANDARD
TZOFFSETFROM:-0400
TZOFFSETTO:-0500
TZNAME:EST
DTSTART:20251102T060000
END:STANDARD
END:VTIMEZONE
BEGIN:VEVENT
DTSTART;TZID=America/New_York:20240507T100000
DTEND;TZID=America/New_York:20240507T120000
DTSTAMP:20260424T015250
CREATED:20240202T194348Z
LAST-MODIFIED:20240208T153231Z
UID:10004479-1715076000-1715083200@www.gcparkstrails.com
SUMMARY:Homeschool Science Days: Reptiles
DESCRIPTION:Reptiles\nMeet snakes and turtles\, learn about reptile adaptations\, play games and more. This is a drop in program that goes from 10 am -noon. Please plan to arrive no later than 11:30 in order to have time to enjoy the activities. \nHomeschool Science Days are station-based with various fun\, educational activities. These are drop in programs that begin at 10 am and go to noon. Please plan to arrive no later than 11:30 in order to have time to enjoy the activities.
URL:https://www.gcparkstrails.com/event/homeschool-science-days-reptiles/
LOCATION:Spring Lakes Park\, 2191 Ferry Road\, Bellbrook\, OH\, 45305\, United States
CATEGORIES:Homeschool Science Days
END:VEVENT
BEGIN:VEVENT
DTSTART;TZID=America/New_York:20240507T133000
DTEND;TZID=America/New_York:20240507T143000
DTSTAMP:20260424T015250
CREATED:20240207T144053Z
LAST-MODIFIED:20240207T144103Z
UID:10004633-1715088600-1715092200@www.gcparkstrails.com
SUMMARY:Cooking For One OR Two
DESCRIPTION:Cooking for one is usually no fun! \nWe will explore why cooking for one is a challenge.  You will learn strategies for cooking nutritious\, appetizing meals for one more satisfying reason.  Be motivated to prepare nutritious\, appetizing meals\, even for just one person! \nLaura Halladay\, NDTR\, Family & Consumer Sciences Educator\, Ohio State University Extension\, Greene County\, will be joining us at the Fairgrounds Rec. Center Park to present information in reference to the topic of “Cooking for One or Two”. \nLaura will present helpful information and answer questions on the topic of cooking for one or two people.  Please join us at the park for this interesting topic. \nPicnic tables are available.  Please bring a chair or blanket for your comfort. \nThis is a FREE program.
URL:https://www.gcparkstrails.com/event/cooking-for-one-or-two/
LOCATION:Fairgrounds Recreation Center\, 210 Fairground Road\, Xenia\, OH\, 45385\, United States
CATEGORIES:Seniors
END:VEVENT
END:VCALENDAR