BEGIN:VCALENDAR
VERSION:2.0
PRODID:-//Greene County Parks &amp; Trails - ECPv6.15.18//NONSGML v1.0//EN
CALSCALE:GREGORIAN
METHOD:PUBLISH
X-WR-CALNAME:Greene County Parks &amp; Trails
X-ORIGINAL-URL:https://www.gcparkstrails.com
X-WR-CALDESC:Events for Greene County Parks &amp; Trails
REFRESH-INTERVAL;VALUE=DURATION:PT1H
X-Robots-Tag:noindex
X-PUBLISHED-TTL:PT1H
BEGIN:VTIMEZONE
TZID:America/New_York
BEGIN:DAYLIGHT
TZOFFSETFROM:-0500
TZOFFSETTO:-0400
TZNAME:EDT
DTSTART:20230312T070000
END:DAYLIGHT
BEGIN:STANDARD
TZOFFSETFROM:-0400
TZOFFSETTO:-0500
TZNAME:EST
DTSTART:20231105T060000
END:STANDARD
BEGIN:DAYLIGHT
TZOFFSETFROM:-0500
TZOFFSETTO:-0400
TZNAME:EDT
DTSTART:20240310T070000
END:DAYLIGHT
BEGIN:STANDARD
TZOFFSETFROM:-0400
TZOFFSETTO:-0500
TZNAME:EST
DTSTART:20241103T060000
END:STANDARD
BEGIN:DAYLIGHT
TZOFFSETFROM:-0500
TZOFFSETTO:-0400
TZNAME:EDT
DTSTART:20250309T070000
END:DAYLIGHT
BEGIN:STANDARD
TZOFFSETFROM:-0400
TZOFFSETTO:-0500
TZNAME:EST
DTSTART:20251102T060000
END:STANDARD
END:VTIMEZONE
BEGIN:VEVENT
DTSTART;TZID=America/New_York:20240503T210000
DTEND;TZID=America/New_York:20240503T230000
DTSTAMP:20260423T224329
CREATED:20240206T203700Z
LAST-MODIFIED:20240206T203700Z
UID:10004325-1714770000-1714777200@www.gcparkstrails.com
SUMMARY:Romantic Movie Night
DESCRIPTION:Let us help you change up the monotony of date night by offering this romantic movie night\, under the stars. \nRegistered guests will get their own table for two where they will receive appetizers and a dessert\, as well as drinks\, to enjoy during the movie. \nRegister each guest attending\, not by the couple. \nCheck back for the movie title!
URL:https://www.gcparkstrails.com/event/romantic-movie-night-3/
LOCATION:Russ Nature Reserve\, 2380 Kemp Road\, Beavercreek\, OH\, 45431\, United States
CATEGORIES:Adults,Movies Under the Stars
ATTACH;FMTTYPE=image/png:https://www.gcparkstrails.com/wp-content/uploads/2020/09/MoviesUnderStars-Feature.png
END:VEVENT
END:VCALENDAR