BEGIN:VCALENDAR
VERSION:2.0
PRODID:-//Greene County Parks &amp; Trails - ECPv6.15.18//NONSGML v1.0//EN
CALSCALE:GREGORIAN
METHOD:PUBLISH
X-WR-CALNAME:Greene County Parks &amp; Trails
X-ORIGINAL-URL:https://www.gcparkstrails.com
X-WR-CALDESC:Events for Greene County Parks &amp; Trails
REFRESH-INTERVAL;VALUE=DURATION:PT1H
X-Robots-Tag:noindex
X-PUBLISHED-TTL:PT1H
BEGIN:VTIMEZONE
TZID:America/New_York
BEGIN:DAYLIGHT
TZOFFSETFROM:-0500
TZOFFSETTO:-0400
TZNAME:EDT
DTSTART:20230312T070000
END:DAYLIGHT
BEGIN:STANDARD
TZOFFSETFROM:-0400
TZOFFSETTO:-0500
TZNAME:EST
DTSTART:20231105T060000
END:STANDARD
BEGIN:DAYLIGHT
TZOFFSETFROM:-0500
TZOFFSETTO:-0400
TZNAME:EDT
DTSTART:20240310T070000
END:DAYLIGHT
BEGIN:STANDARD
TZOFFSETFROM:-0400
TZOFFSETTO:-0500
TZNAME:EST
DTSTART:20241103T060000
END:STANDARD
BEGIN:DAYLIGHT
TZOFFSETFROM:-0500
TZOFFSETTO:-0400
TZNAME:EDT
DTSTART:20250309T070000
END:DAYLIGHT
BEGIN:STANDARD
TZOFFSETFROM:-0400
TZOFFSETTO:-0500
TZNAME:EST
DTSTART:20251102T060000
END:STANDARD
END:VTIMEZONE
BEGIN:VEVENT
DTSTART;TZID=America/New_York:20240416T090000
DTEND;TZID=America/New_York:20240416T120000
DTSTAMP:20260423T224319
CREATED:20240202T191515Z
LAST-MODIFIED:20240208T153231Z
UID:10004230-1713258000-1713268800@www.gcparkstrails.com
SUMMARY:Homeschool Science Days: Amphibians
DESCRIPTION:Amphibians\nThe truth is stranger than fiction when it comes to amphibians. Learn which ones eat their own skin\, change color\, and freeze solid\, yet come back to life! Participants will get an up close look at frogs\, salamanders and other amphibians\, go looking for them in the woods\, play amphibian games and more during this station-based day of slimy fun. \nHomeschool Science Days are station-based with various fun\, educational activities. These are drop in programs that begin at 10 am and go to noon. Please plan to arrive no later than 11:30 in order to have time to enjoy the activities.
URL:https://www.gcparkstrails.com/event/homeschool-science-days-amphibians/
LOCATION:Spring Lakes Park\, 2191 Ferry Road\, Bellbrook\, OH\, 45305\, United States
CATEGORIES:Homeschool Science Days
END:VEVENT
END:VCALENDAR